BEGIN:VCALENDAR
VERSION:2.0
PRODID:-//CROSS 中性子科学センター（2019年アーカイブ） - ECPv5.14.1//NONSGML v1.0//EN
CALSCALE:GREGORIAN
METHOD:PUBLISH
X-WR-CALNAME:CROSS 中性子科学センター（2019年アーカイブ）
X-ORIGINAL-URL:https://archive2019nt.cross.or.jp
X-WR-CALDESC:CROSS 中性子科学センター（2019年アーカイブ） のイベント
BEGIN:VTIMEZONE
TZID:Asia/Tokyo
BEGIN:STANDARD
TZOFFSETFROM:+0900
TZOFFSETTO:+0900
TZNAME:JST
DTSTART:20140101T000000
END:STANDARD
END:VTIMEZONE
BEGIN:VEVENT
DTSTART;VALUE=DATE:20140228
DTEND;VALUE=DATE:20140302
DTSTAMP:20260426T034735
CREATED:20210303T043822Z
LAST-MODIFIED:20210304T080222Z
UID:16229-1393545600-1393718399@archive2019nt.cross.or.jp
SUMMARY:元素戦略プロジェクト＜研究拠点形成型＞・大型研究施設（CMSI・SPring-8・J-PARC・KEK）連携シンポジウム2014～大型研究施設を利用した物質・材料研究の課題共有と共創～
DESCRIPTION:概要\n元素戦略プロジェクト（研究拠点形成型）は、大型研究施設（CMSI（「京」・HPCI）・SPring-8・J-PARC・KEK）を利用して、”磁石材料”、”触媒・電池材料”、”電子材料”、”構造材料”の4つの領域の研究を推進しています。本シンポジウムは、それらの研究で得られた成果や取組、課題を報告し、参加者間で情報を共有して見識を広げるとともに、今後の成果を共創する機会の提供を目的としています。特に、本プロジェクトの課題を実施する研究者と、それ以外の研究者が互いの枠を超え、各施設で何ができるのかを把握、理解し、課題解決の方向性を見出すことを期待しています。本シンポジウムは、我が国の物質・材料科学研究者が広くかかわる意見交換の場の構築を目指して実施いたします。今後、元素戦略拠点と課題を共有する、大学や研究機関、他プロジェクト等との連携体制に発展していくことを視野に入れています。皆様のご参加をお待ち申し上げます。 \n開催日時\n2014年2月28日（金）～ 3月1日（土） \n場所\n東京大学柏キャンパス 物性研究所 \n\n\n6階大講堂 （シンポジウム）\n6階ラウンジ （ポスターセッション）\n\n参加対象\n\n元素戦略に関連した研究を推進している方\n大型研究施設を利用した研究を推進している方\n共催機関関係者と関連コミュニティーメンバー\n\n定員\n200名 \n参加費\n無料 \n申込方法\n参加登録フォーム からお申し込みください。 \n申込締切\n2014年2月24日（月）＊ただし200名に達した時点で受付を締め切ります。 \n物性研施設見学\n物性研の施設見学ツアーを下記の通り実施します。この機会に是非ご参加ください。 \n\n\n日時\n2014年2月28日（金） 10:30～11:30\n\n\n集合\n物性研究所6階大講堂\n\n\n見学場所（予定）\n・国際超強磁場科学研究施設・極限コヒーレント光科学研究センター\n\n\nプログラム\n2月28日（金）\n司会：河村麻美（文科省） \n\n\n13:00 – 13:10\n挨拶\n文部科学省\n\n\n趣旨説明\n福山秀敏 （東京理科大 総合研究機構長）瀧川仁 （物性研所長）\n\n\n各材料領域\n\n\n13:10 – 13:40\n電子材料領域現状と課題\n細野秀雄 （東工大元素戦略拠点長）\n\n\n13:40 – 14:10\n構造材料領域現状と課題\n田中功 （京大構造材料拠点長）\n\n\n14:10 – 14:40\n磁石材料領域現状と課題\n広沢哲 （NIMS磁性材料拠点長）\n\n\n14:40 – 15:10\n触媒・電池材料領域現状と課題\n田中庸裕 （京大触媒・電池拠点長）\n\n\n15:10 – 15:30\nコーヒーブレーク\n \n\n\n各大型研究施設\n\n\n15:30 – 16:00\n元素戦略スマートツールとしてのSPring-8/SACLA\n高田昌樹 （理研播磨 副センター長）\n\n\n16:00 – 16:30\nJ-PARC現状と課題\n新井正敏 （J-PARCセンター物質・生命科学ディビジョン長）\n\n\n16:30 – 17:00\n元素戦略課題へのPFの取り組み～放射光・中性子・ミュオンの相補利用～\n村上洋一 （KEK構造物性研究センター長）\n\n\n17:00 – 17:30\nCMSI（「京」、HPCI）現状と課題\n常行真司 （計算物質科学イニシアティブﾞ総括責任者）\n\n\nパネルディスカッション\nモデーレータ：常行真司 （CMSI）\n\n\n17:30 – 18:30\n元素戦略研究における材料拠点と大型研究施設利用のあり方（仮）\n\n\n18:30 – 20:00\n懇親会＆ポスター（掲示のみ） （会費4\,000円）・文部科学省挨拶\n\n\n3月1日（土）\n\n\n\n各材料領域トピックス\n\n \n \n\n\n（電子材料領域）\n\n\n9:00 – 9:15\nマルチプローブによる鉄系超伝導体LaFeAsO1-xHxの研究\n平石雅俊 （KEK）他\n\n\n9:15 – 9:30\nNIMSビームライン＠SPring8と元素戦略\n上田茂典 （NIMS）他\n\n\n9:30 – 9:45\n電子材料領域議論\n \n\n\n（構造材料領域）\n\n\n9:45 – 10:00\n強度と延性を両立した構造用金属材料の放射光を利用した組織・変形機構の解析\n辻伸泰 （京大）他\n\n\n10:00 – 10:15\n中性子による軽元素の空間分布観察とプロセスその場観察の計画について\n大沼正人 （北大）\n\n\n10:15 – 10:30\n構造材料領域議論\n \n\n\n10:30 – 11:00\nコーヒーブレーク\n \n\n\n（磁石材料領域）\n\n\n11:00 – 11:15\n磁石材料領域トピックス(1)\n中村哲也 （JASRI）\n\n\n11:15 – 11:30\n磁石材料領域トピックス(2)\n小野寛太 （KEK）\n\n\n11:30 – 11:45\n磁石材料領域議論\n \n\n\n（触媒・電池材料領域）\n\n\n11:45 – 12:00\n蓄電池電極の異常電子物性と新材料開発\n山田淳夫 （東大）\n\n\n12:00 – 12:15\n触媒表面の活性種のXAFSによる構造解析\n宍戸哲也 （首都大東京）\n\n\n12:15 – 12:30\n触媒・電池材料領域議論\n \n\n\nポスターセッション（元素戦略各材料領域・大型研究施設・一般）\n\n\n12:30 – 13:00\nランチ＆ポスターセッション ＊ビュッフェ形式 （会費1\,000円）\n\n\n13:00 – 15:00\nポスターセッション\n\n\nCMSI関連機関\n\n\n15:00 – 15:20\nIn situ/オペランド軟X線発光分光による触媒・電池材料の機能解析\n原田慈久 （物性研）\n\n\n15:20 – 15:40\n低エネルギー放射光を利用した分子性材料における分子間相互作用の局所解析\n山根宏之 （分子研）他\n\n\n15:40 – 16:00\n高強度鋼における材料組織学的課題\n古原忠 （東北大金研）\n\n\n16:00 – 16:20\nエネルギーの界面科学（仮題）\n杉野修 （物性研）\n\n\n16:20 – 16:35\nCMSI関連機関研究領域議論\n \n\n\n全体討議・サマリー\n司会: 瀧川仁 （物性研）\n\n\n16:35 – 17:35\n大型研究施設を利用した物質・材料研究の課題共有と共創に向けて（仮）\n \n\n\n17:35 – 17:45\nクロージング\n講評: 村井PD／澤岡PD\n\n\n問い合わせ先\n東京大学 物性研究所 計算物質科学イニシアティブ（CMSI）事務局〒277-8581 千葉県柏市柏の葉 5-1-5Tel: 04-7136-3279Fax: 04-7136-3441Email: adm-office＠cms-initiative.jp \n共催\n文部科学省\n研究振興局 参事官（ナノテクノロジー・物質・材料担当）付研究振興局 参事官（情報担当）付研究振興局 基礎研究振興課 素粒子・原子核研究推進室科学技術・学術政策局 研究開発基盤課 量子放射線研究推進室 \n元素戦略プロジェクト（研究拠点形成型）\n物質・材料研究機構 元素戦略磁性材料研究拠点（ESICMM）京都大学 触媒・電池元素戦略研究拠点（ESICB）東工大 元素戦略拠点（TIES）・元素戦略研究センター（MCES）京都大学 構造材料元素戦略研究拠点（ESISM） \n大型研究施設\nSPring-8大型放射光施設（含: SACLA）（理研、JASRI）J-PARC大強度陽子加速器施設（J-PARCセンター（JAEA・KEK）、CROSS）KEK物質構造科学研究所（放射光科学研究施設：PF） \nCMSI；計算物質科学イニシアティブ（「京」・HPCI）\n東京大学物性研究所（事務局）自然科学研究機構分子科学研究所東北大学金属材料研究所 \n概要\n詳細は、CMSIのホームページ をご覧ください。 \n関連ページ\n\nフォトギャラリー
URL:https://archive2019nt.cross.or.jp/events/v14009/
ATTACH;FMTTYPE=image/png:https://archive2019nt.cross.or.jp/wp/wp-content/uploads/2018/01/noimg.png
END:VEVENT
END:VCALENDAR