BEGIN:VCALENDAR
VERSION:2.0
PRODID:-//CROSS 中性子科学センター（2019年アーカイブ） - ECPv5.14.1//NONSGML v1.0//EN
CALSCALE:GREGORIAN
METHOD:PUBLISH
X-WR-CALNAME:CROSS 中性子科学センター（2019年アーカイブ）
X-ORIGINAL-URL:https://archive2019nt.cross.or.jp
X-WR-CALDESC:CROSS 中性子科学センター（2019年アーカイブ） のイベント
BEGIN:VTIMEZONE
TZID:Asia/Tokyo
BEGIN:STANDARD
TZOFFSETFROM:+0900
TZOFFSETTO:+0900
TZNAME:JST
DTSTART:20140101T000000
END:STANDARD
END:VTIMEZONE
BEGIN:VEVENT
DTSTART;VALUE=DATE:20140924
DTEND;VALUE=DATE:20140927
DTSTAMP:20260426T034913
CREATED:20210303T045103Z
LAST-MODIFIED:20210303T082244Z
UID:16248-1411516800-1411775999@archive2019nt.cross.or.jp
SUMMARY:NOBUGS 2014 (New Opportunities for Better User Group Software)
DESCRIPTION:開催日\n2014年9月24日（水）～26日（金） \n場所\nKEKつくばキャンパス 研究本館 小林ホール茨城県つくば市大穂1-1Tel: 029-864-1171 \n問い合わせ先\nEmail: nobugs2014＠ml.j-parc.jp \n詳細は NOBUGS 2014のホームページ をご覧ください。
URL:https://archive2019nt.cross.or.jp/events/v14016/
LOCATION:高エネルギー加速器研究機構 小林ホール\, 大穂1-1\, つくば市\, 茨城県\, 305-0801\, Japan
ATTACH;FMTTYPE=image/png:https://archive2019nt.cross.or.jp/wp/wp-content/uploads/2018/01/noimg.png
END:VEVENT
END:VCALENDAR