BEGIN:VCALENDAR
VERSION:2.0
PRODID:-//CROSS 中性子科学センター（2019年アーカイブ） - ECPv5.14.1//NONSGML v1.0//EN
CALSCALE:GREGORIAN
METHOD:PUBLISH
X-WR-CALNAME:CROSS 中性子科学センター（2019年アーカイブ）
X-ORIGINAL-URL:https://archive2019nt.cross.or.jp
X-WR-CALDESC:CROSS 中性子科学センター（2019年アーカイブ） のイベント
BEGIN:VTIMEZONE
TZID:Asia/Tokyo
BEGIN:STANDARD
TZOFFSETFROM:+0900
TZOFFSETTO:+0900
TZNAME:JST
DTSTART:20140101T000000
END:STANDARD
END:VTIMEZONE
BEGIN:VEVENT
DTSTART;VALUE=DATE:20140916
DTEND;VALUE=DATE:20140918
DTSTAMP:20260426T033959
CREATED:20140915T224503Z
LAST-MODIFIED:20180208T150105Z
UID:5627-1410825600-1410998399@archive2019nt.cross.or.jp
SUMMARY:CROSSroads 12 – Characterizing the structure and functionality of inhomogeneous materials using quantum beams
DESCRIPTION:CROSSroads Workshop SeriesCROSSroads 12 – Characterizing the structure and functionality of inhomogeneous materials using quantum beams\n16-17 September 2014\, IQBRC\, Tokai \nSelf-organizing processes in inhomogeneous and non-equilibrium systems often follow simple laws. A typical example is a self-similar structure that develops over a wide range of length scales. So-called "multiscale science"\, that deals with hierarchical structures and their fluctuations\, has recently gained much attention due to new functional materials comprised of nano-structures in inhomogeneous systems that have been developed. \nAlthough the response from inhomogeneous systems can be complicated\, we expect that the structures\, fluctuations and reaction mechanisms of new functional materials can be revealed by advanced quantum beam experimental methods. \nThis workshop aims to promote communication and collaboration among scientists involved in basic\, applied and instrumental research. We hope to discuss opportunities for the application of quantum beams and strategies for the development of new functional materials from the standpoint of inhomogeneous systems. \nContributions devoted to topics such as the development of new functional materials\, novel experimental techniques\, ferroics\, ion-conductors etc. are invited. \nWorkshop details\nDate : 16-17 September 2014Venue : IQBRC\, TokaiRegistration Fee : No chargeLanguage : Japanese \nMore information\nFor more details about the workshop and information on venue access\, accommodation\, workshop reception etc.\, please contact:  \nProf. Masatoshi SatoScience Coordinator – CROSS-TokaiT: +81-29-219-5310 (x3211)E: m_sato*cross.or.jp \n\nMore information\nImage Gallery
URL:https://archive2019nt.cross.or.jp/events/v14021-e/
LOCATION:いばらき量子ビーム研究センター（IQBRC） B101大会議室\, 白方162-1\, 那珂郡東海村\, 茨城県\, 319-1106\, Japan
CATEGORIES:Workshop
ATTACH;FMTTYPE=image/png:https://archive2019nt.cross.or.jp/wp/wp-content/uploads/2018/01/noimg.png
END:VEVENT
END:VCALENDAR