BEGIN:VCALENDAR
VERSION:2.0
PRODID:-//CROSS 中性子科学センター（2019年アーカイブ） - ECPv5.14.1//NONSGML v1.0//EN
CALSCALE:GREGORIAN
METHOD:PUBLISH
X-WR-CALNAME:CROSS 中性子科学センター（2019年アーカイブ）
X-ORIGINAL-URL:https://archive2019nt.cross.or.jp
X-WR-CALDESC:CROSS 中性子科学センター（2019年アーカイブ） のイベント
BEGIN:VTIMEZONE
TZID:Asia/Tokyo
BEGIN:STANDARD
TZOFFSETFROM:+0900
TZOFFSETTO:+0900
TZNAME:JST
DTSTART:20140101T000000
END:STANDARD
END:VTIMEZONE
BEGIN:VEVENT
DTSTART;TZID=Asia/Tokyo:20140902T095000
DTEND;TZID=Asia/Tokyo:20140902T180000
DTSTAMP:20260426T045755
CREATED:20210303T051954Z
LAST-MODIFIED:20210304T081851Z
UID:16273-1409651400-1409680800@archive2019nt.cross.or.jp
SUMMARY:第1回「京」と大型実験施設との連携利用シンポジウム
DESCRIPTION:概要\n「京」とSPring-8、J-PARC/MLF、KEK/IMSS/PF等の大型実験施設との連携利用は、数値シミュレーション手法と実験的手法の特性を相互に補い合う形での研究成果の創出につながり、その推進は多方面から期待されています。本シンポジウムでは、この連携利用促進のため、すでに実施されている連携利用の研究課題、連携の際に利用可能な物質科学関連の計算プログラムを紹介します。また、実験側から計算との連携に対する課題や要望を頂戴し、実験と計算の施設関係者間、研究者間での情報共有と成果共創を促す機会を提供します。皆様の参加をお待ち申し上げます。 \n開催日時\n2014年9月2日（火） 9:50～18:00 \n場所\n東京・秋葉原UDX （4階、NEXT-1） \n定員\n100名程度 \n参加費\n無料 \n申込締切\n8月29日（金） 17:00 \n問い合わせ先\n高度情報科学技術研究機構 シンポジウム担当Email : hpci-sympo＠hpci-office.jp \n主催\n（一財）高度情報科学技術研究機構 （RIST）計算物質科学イニシアティブ （CMSI） \n協賛\n（公財）高輝度光科学研究センター （JASRI）（一財）総合科学研究機構 東海事業センター （CROSS東海）J-PARCセンター （予定）物質構造科学研究所 （IMSS）元素戦略プロジェクト＜拠点形成型＞理化学研究所 （予定） \n後援\n文部科学省兵庫県茨城県 （予定） \n概要\n詳細は HPCI のホームページをご覧ください。
URL:https://archive2019nt.cross.or.jp/events/v14027/
LOCATION:東京・秋葉原UDX 4階 NEXT-1\, 外神田4-14-1\, 千代田区\, 東京都\, 101-0021
ATTACH;FMTTYPE=image/png:https://archive2019nt.cross.or.jp/wp/wp-content/uploads/2018/01/noimg.png
END:VEVENT
END:VCALENDAR