BEGIN:VCALENDAR
VERSION:2.0
PRODID:-//CROSS 中性子科学センター（2019年アーカイブ） - ECPv5.14.1//NONSGML v1.0//EN
CALSCALE:GREGORIAN
METHOD:PUBLISH
X-WR-CALNAME:CROSS 中性子科学センター（2019年アーカイブ）
X-ORIGINAL-URL:https://archive2019nt.cross.or.jp
X-WR-CALDESC:CROSS 中性子科学センター（2019年アーカイブ） のイベント
BEGIN:VTIMEZONE
TZID:Asia/Tokyo
BEGIN:STANDARD
TZOFFSETFROM:+0900
TZOFFSETTO:+0900
TZNAME:JST
DTSTART:20140101T000000
END:STANDARD
END:VTIMEZONE
BEGIN:VEVENT
DTSTART;VALUE=DATE:20141202
DTEND;VALUE=DATE:20141204
DTSTAMP:20260426T033958
CREATED:20141201T150054Z
LAST-MODIFIED:20210304T084145Z
UID:3295-1417478400-1417651199@archive2019nt.cross.or.jp
SUMMARY:第13回「強相関電子系の物理」
DESCRIPTION:＊たくさんのご参加をいただき、ありがとうございました。 \n強く相互作用する電子を有する物質系の研究は、これまで銅酸化物や鉄系に見られる高温超伝導、および重い電子系に見られる極めて特徴的な超伝導、さらにはこれらすべての系が示す異常ともいえる常伝導物性など、電子物性分野の基盤をなす物理概念形成に大きく寄与してきましたが、それと並行して進む新規物質開発努力と相まって、興味は衰えることがありません。ここでは、これらの系が示す物理現象の微視的な理解を目的として議論を深化させ、固体電子論研究が果たすべき将来の研究方向をにらみ、さらには種々の実験研究が果たすべき役割をも考えるような機会を作りたいと考えます。 \nつきましては以下の要領にて開催を予定しておりますので、該当分野に興味をお持ちの方のご参加をお待ちしております。 \n開催日\n2014年12月2日（火）～3日（水） \n場所\nいばらき量子ビーム研究センター C105会議室 \n会場へのアクセス方法は以下のサイトをご覧ください。 \n\nアクセス\nJ-PARCユーザーズオフィス\n\n東海駅からJ-PARC運行バス（JAEA東海駅シャトルバス）をご利用いただけます。ご利用の際はユーザー登録手続きが必要になります。 \n参加費\n無料 \n使用言語\n日本語 \nプログラム（11月11日現在）\nこちら をご覧ください。 [PDF: 363KB] \n懇親会\n参加申し込みの受付は終了しました。 \n\n\n日時: \n12月2日（火） 19:00～\n\n\n会場: \n八角茨城県那珂郡東海村舟石川駅西2-14-15029-284-0405\n\n\n会費:\n¥6\,500（予定）\n\n\n＊会場等は変更になる可能性があります。＊バス送迎あります。 \n宿泊\nJ-PARCのユーザー用宿泊施設（東海ドミトリー）をご利用いただけます。費用は一泊￥2\,500です。ご利用の際はユーザー登録手続きが必要になります。 \n研究会世話人\n佐藤正俊（代表）、蒲沢和也、池内和彦、飯田一樹、石角元志、中尾明子、茂吉武人（以上CROSS）、梶本亮一（J-PARC）、金子耕士（JAEA）、本多史憲（東北大金研・大洗）\n \n問い合わせ先\n一般財団法人 総合科学研究機構 東海事業センター研究会事務局Email : workshop13＠cross.or.jp \n主催\n一般財団法人 総合科学研究機構 東海事業センター （CROSS東海）（J-PARC特定中性子線施設・登録施設利用促進機関） \n共催\nJ-PARCセンター（KEK/JAEA） \n協賛\n日本中性子科学会 \n関連ページ\n\nフォトギャラリー
URL:https://archive2019nt.cross.or.jp/events/v14031/
LOCATION:いばらき量子ビーム研究センター\, 白方162-1\, 那珂郡東海村\, 茨城県\, Japan
CATEGORIES:ワークショップ
ATTACH;FMTTYPE=image/png:https://archive2019nt.cross.or.jp/wp/wp-content/uploads/2018/01/noimg.png
END:VEVENT
END:VCALENDAR