BEGIN:VCALENDAR
VERSION:2.0
PRODID:-//CROSS 中性子科学センター（2019年アーカイブ） - ECPv5.14.1//NONSGML v1.0//EN
CALSCALE:GREGORIAN
METHOD:PUBLISH
X-WR-CALNAME:CROSS 中性子科学センター（2019年アーカイブ）
X-ORIGINAL-URL:https://archive2019nt.cross.or.jp
X-WR-CALDESC:CROSS 中性子科学センター（2019年アーカイブ） のイベント
BEGIN:VTIMEZONE
TZID:Asia/Tokyo
BEGIN:STANDARD
TZOFFSETFROM:+0900
TZOFFSETTO:+0900
TZNAME:JST
DTSTART:20150101T000000
END:STANDARD
END:VTIMEZONE
BEGIN:VEVENT
DTSTART;VALUE=DATE:20150203
DTEND;VALUE=DATE:20150205
DTSTAMP:20260426T034919
CREATED:20150203T072739Z
LAST-MODIFIED:20210304T090737Z
UID:3942-1422921600-1423094399@archive2019nt.cross.or.jp
SUMMARY:第14回「スピン系とフラストレーション」
DESCRIPTION:概要\n先人の貢献により、日本は、世界有数の磁性大国を維持してきました。物理学会などにおいても磁性分野が一大勢力をなしていることからうかがい知ることができます。中性子は磁性観測に極めて有効な手段であることから、磁性分野とともに成長してきたと言っても過言ではありません。第14回研究会では、この磁性分野で活発な研究を進めておられる先生方をお招きして種々の興味ある話題の提供をお願いしたいと考えております。そこでの活発な議論が磁性研究の新たなパラダイムの創出にむすびつくこと、さらには多くの方々との交流によって、Ｊ-ＰＡＲＣでの研究の大きな展開につながることを願っております。 \nつきましては以下の要領にて開催を予定しておりますので、該当分野に興味をお持ちの方のご参加をお待ちしております。 \n開催日\n2015年2月3日（火）～4日（水） \n場所\nいばらき量子ビーム研究センター B101会議室  \n会場へのアクセス方法は以下のサイトをご覧ください。 \n\nアクセス\nJ-PARCユーザーズオフィス\n\n東海駅からJ-PARC運行バス（JAEA東海駅シャトルバス）をご利用いただけます。ご利用の際はユーザー登録手続きが必要になります。 \n参加費\n無料 \n使用言語\n日本語 \nプログラム （1月27日現在）\nこちら をご覧ください。 [PDF: 340KB] \n懇親会\n参加申し込みの受付は終了しました。 \n\n\n日時: \n2月3日（火） 19:00～（予定）\n\n\n会場: \n八角茨城県那珂郡東海村舟石川駅西2-14-15029-284-0405\n\n\n会費:\n¥5\,500（予定）\n\n\n＊会場等は変更になる可能性があります。＊バス送迎あります。 \n宿泊\nJ-PARCのユーザー用宿泊施設（東海ドミトリー）は満室になりました。 \n \n研究会世話人\n佐藤正俊（代表）、蒲沢和也、飯田一樹、池内和彦、大石一城、茂吉武人、中尾朗子、石角元志（以上CROSS）、河村聖子（JAEA J-PARC）、中島健次（JAEA J-PARC） \n問い合わせ先\n一般財団法人 総合科学研究機構 東海事業センター研究会事務局Email :  \n主催\n一般財団法人 総合科学研究機構 東海事業センター （CROSS東海）（J-PARC特定中性子線施設・登録施設利用促進機関） \n共催\nJ-PARCセンター（KEK/JAEA） \n協賛\n日本中性子科学会 \n関連ページ\n\nフォトギャラリー
URL:https://archive2019nt.cross.or.jp/events/v15003/
LOCATION:いばらき量子ビーム研究センター（IQBRC） B101大会議室\, 白方162-1\, 那珂郡東海村\, 茨城県\, 319-1106\, Japan
CATEGORIES:ワークショップ
ATTACH;FMTTYPE=image/png:https://archive2019nt.cross.or.jp/wp/wp-content/uploads/2018/01/noimg.png
END:VEVENT
END:VCALENDAR