BEGIN:VCALENDAR
VERSION:2.0
PRODID:-//CROSS 中性子科学センター（2019年アーカイブ） - ECPv5.14.1//NONSGML v1.0//EN
CALSCALE:GREGORIAN
METHOD:PUBLISH
X-WR-CALNAME:CROSS 中性子科学センター（2019年アーカイブ）
X-ORIGINAL-URL:https://archive2019nt.cross.or.jp
X-WR-CALDESC:CROSS 中性子科学センター（2019年アーカイブ） のイベント
BEGIN:VTIMEZONE
TZID:Asia/Tokyo
BEGIN:STANDARD
TZOFFSETFROM:+0900
TZOFFSETTO:+0900
TZNAME:JST
DTSTART:20150101T000000
END:STANDARD
END:VTIMEZONE
BEGIN:VEVENT
DTSTART;VALUE=DATE:20150414
DTEND;VALUE=DATE:20150417
DTSTAMP:20260426T045724
CREATED:20180126T070617Z
LAST-MODIFIED:20180126T070617Z
UID:3918-1428969600-1429228799@archive2019nt.cross.or.jp
SUMMARY:第8回canSAS会議
DESCRIPTION:第8回canSAS会議\n      （The 8th Meeting on Collective Action for Nomadic Small Angle Scatterers）\n会議開催報告はこちら \n \n開催日\n2015年4月14日（火）～16日（木） \n場所\nいばらき量子ビーム研究センター \n主催\n一般財団法人総合科学研究機構 東海事業センターJ-PARCセンター（KEK/JAEA） \n共催\n高エネルギー加速器研究機構 物質構造科学研究所東京大学 物性研究所 \n       \n  \n詳細は、"canSAS-VIII" のホームページ をご覧ください。
URL:https://archive2019nt.cross.or.jp/events/v15012/
LOCATION:いばらき量子ビーム研究センター\, 白方162-1\, 那珂郡東海村\, 茨城県\, Japan
CATEGORIES:ワークショップ,研究会
ATTACH;FMTTYPE=image/png:https://archive2019nt.cross.or.jp/wp/wp-content/uploads/2018/01/noimg.png
END:VEVENT
END:VCALENDAR