BEGIN:VCALENDAR
VERSION:2.0
PRODID:-//CROSS 中性子科学センター（2019年アーカイブ） - ECPv5.14.1//NONSGML v1.0//EN
CALSCALE:GREGORIAN
METHOD:PUBLISH
X-WR-CALNAME:CROSS 中性子科学センター（2019年アーカイブ）
X-ORIGINAL-URL:https://archive2019nt.cross.or.jp
X-WR-CALDESC:CROSS 中性子科学センター（2019年アーカイブ） のイベント
BEGIN:VTIMEZONE
TZID:Asia/Tokyo
BEGIN:STANDARD
TZOFFSETFROM:+0900
TZOFFSETTO:+0900
TZNAME:JST
DTSTART:20150101T000000
END:STANDARD
END:VTIMEZONE
BEGIN:VEVENT
DTSTART;VALUE=DATE:20150531
DTEND;VALUE=DATE:20150604
DTSTAMP:20260426T034851
CREATED:20150531T070450Z
LAST-MODIFIED:20180126T070450Z
UID:3915-1433030400-1433375999@archive2019nt.cross.or.jp
SUMMARY:NEUWAVE-7
DESCRIPTION:第7回NEUWAVE会議（The seventh workshop on NEUtron WAVElength-dependent imaging）\n開催日\n2015年5月31（日）～6月3日（水） \n場所\n 茨城県立県民文化センター  \n主催\nJ-PARCセンター \n共催\n一般財団法人総合科学研究機構 東海事業センター \n       \n  \n詳細は、"NEUWAVE-7" のホームページ をご覧ください。
URL:https://archive2019nt.cross.or.jp/events/v15013/
CATEGORIES:ワークショップ,研究会
ATTACH;FMTTYPE=image/png:https://archive2019nt.cross.or.jp/wp/wp-content/uploads/2018/01/noimg.png
END:VEVENT
END:VCALENDAR