BEGIN:VCALENDAR
VERSION:2.0
PRODID:-//CROSS 中性子科学センター（2019年アーカイブ） - ECPv5.14.1//NONSGML v1.0//EN
CALSCALE:GREGORIAN
METHOD:PUBLISH
X-WR-CALNAME:CROSS 中性子科学センター（2019年アーカイブ）
X-ORIGINAL-URL:https://archive2019nt.cross.or.jp
X-WR-CALDESC:CROSS 中性子科学センター（2019年アーカイブ） のイベント
BEGIN:VTIMEZONE
TZID:Asia/Tokyo
BEGIN:STANDARD
TZOFFSETFROM:+0900
TZOFFSETTO:+0900
TZNAME:JST
DTSTART:20150101T000000
END:STANDARD
END:VTIMEZONE
BEGIN:VEVENT
DTSTART;TZID=Asia/Tokyo:20150903T133000
DTEND;TZID=Asia/Tokyo:20150904T183000
DTSTAMP:20260426T045555
CREATED:20180126T061810Z
LAST-MODIFIED:20180126T061810Z
UID:3912-1441287000-1441391400@archive2019nt.cross.or.jp
SUMMARY:第12回 SPring-8産業利用報告会
DESCRIPTION:第12回 SPring-8産業利用報告会\n（公財）高輝度光科学研究センター（JASRI）は、産業振興への貢献を大切な使命と考え、SPring-8共用ビームラインを用いて、産業界ユーザーに積極的な支援を行っております。また、幾つかの専用ビームラインでも、広範な産業利用が行われています。今年も、SPring-8を用いた産業利用成果発表を通じて、産業界における放射光の有効性を多くの方に知っていただくとともに、産業界ユーザーの相互交流を目的とする、産業利用報告会を9月3日・4日に川崎市産業振興会館で行います。本報告会は、産業用専用ビームライン建設利用共同体（サンビーム）、兵庫県、豊田中央研究所、JASRIそれぞれの発表会（報告会）をジョイントして構成したもので、口頭発表・ポスター発表および技術交流会を行ないます。SPring-8における最新の産業利用の状況、研究成果を知る絶好の機会です。奮ってご参加ください。\n開催日時\n2015年9月3日（木） 13:30～17:302015年9月4日（金） 9:30～16:30 \n会場\n川崎市産業振興会館\n      口頭発表 : 1階　ホール技術交流会 : 4階　企画展示場 \n〒212-0013 神奈川県川崎市幸区堀川町66 番地20\n      Tel : 044-548-4111JR川崎駅西口から徒歩8分、京急川崎駅から徒歩7分 \n参加費\n無料（事前登録制）※技術交流会参加費　2\,000円 \n参加登録\n参加登録フォームよりお申込みください。(参加登録締切)8月26日(水)17時(予定)※但し、定員に達し次第事前に締め切らせていただく可能性がございます。予めご了承くださいませ。 \n定員\n250名程度＊定員に達し次第事前に締め切らせていただく可能性がございます。 \nプログラム\nこちらをご覧ください。 \nポスター発表\n日時 : 2015年9月4日(金） 9:30～11:30場所 : 4階　企画展示場＊ポスター発表者は決まり次第、随時更新します。 \n主催\n（公財）高輝度光科学研究センター （JASRI）産業用専用ビームライン建設利用共同体 （SUNBEAM CONSORTIUM）兵庫県（株）豊田中央研究所 \n共催\nSPring-8利用推進協議会（推進協） \n協賛\n（以下予定）フロンティアソフトマター開発専用ビームライン産学連合体光ビームプラットフォームSPRUC 企業利用研究会（一財）総合科学研究機構 東海事業センター （CROSS東海）（一財）高度情報科学技術研究機構 （RIST） \n問合せ先\nSPring-8産業利用報告会　事務局(公財)高輝度光科学研究センター　津田　綾女、守屋　八重Tel：0791-58-0924，Fax：0791-58-0830email : industry@spring8.or.jp \n  \n詳細は SPring-8産業利用報告会 のホームページをご覧ください。
URL:https://archive2019nt.cross.or.jp/events/v15014/
LOCATION:川崎市産業振興会館\, 幸区堀川町66番地20\, 川崎市\, 神奈川県\, 212-0013\, Japan
CATEGORIES:報告会
ATTACH;FMTTYPE=image/png:https://archive2019nt.cross.or.jp/wp/wp-content/uploads/2018/01/noimg.png
END:VEVENT
END:VCALENDAR