BEGIN:VCALENDAR
VERSION:2.0
PRODID:-//CROSS 中性子科学センター（2019年アーカイブ） - ECPv5.14.1//NONSGML v1.0//EN
CALSCALE:GREGORIAN
METHOD:PUBLISH
X-WR-CALNAME:CROSS 中性子科学センター（2019年アーカイブ）
X-ORIGINAL-URL:https://archive2019nt.cross.or.jp
X-WR-CALDESC:CROSS 中性子科学センター（2019年アーカイブ） のイベント
BEGIN:VTIMEZONE
TZID:Asia/Tokyo
BEGIN:STANDARD
TZOFFSETFROM:+0900
TZOFFSETTO:+0900
TZNAME:JST
DTSTART:20150101T000000
END:STANDARD
END:VTIMEZONE
BEGIN:VEVENT
DTSTART;VALUE=DATE:20150907
DTEND;VALUE=DATE:20150909
DTSTAMP:20260426T045643
CREATED:20180126T061147Z
LAST-MODIFIED:20180209T065735Z
UID:3906-1441584000-1441756799@archive2019nt.cross.or.jp
SUMMARY:第15回「物質の構造と機能」
DESCRIPTION:Workshop: CROSSroads of Users and J-PARC第15回「物質の構造と機能」\n物質科学研究において、対象とする系の構造を知ることはもっとも基本的なことであり、そこで得られた成果が、研究全体の重要な基盤となっています。MLFにおいても粉末および単結晶の構造解析装置が稼働しており、現在、その成果が着実に挙がってきていますが、第15回となる今回は、BL-18（千手）および、BL-08 (SuperHRPD)を中心にしながら、他の装置での研究をも視野に入れて、広い意味での結晶および磁気構造研究に焦点を当てます。そこでは、中性子ビームを用いた「物質の構造と機能」に関する研究手法の拡大や具体的活用法、成果例について議論を進め、成果のさらなる積み上げにつなげていきたいとと考えております。\nつきましては以下の要領にて開催を予定しておりますので、該当分野に興味をお持ちの方のご参加をお待ちしております。\n開催日\n2015年9月7日（月）～8日（火） \n場所\nいばらき量子ビーム研究センター B101会議室 \n\n交通アクセス\n\nシャトルバス（JR東海駅～いばらき量子ビーム研究センター・JAEA）にはご乗車できませんのでご注意ください。東海駅からは、タクシーまたは東海村路線バス（茨城交通）をご利用ください。 \n参加費\n無料 \n使用言語\n日本語 \n申込方法\n以下のフォームからお申し込みください。 \n \nプログラム （8月20日現在）\n \nこちら をご覧ください。 [PDF: 186KB] \n懇親会\n\n\n日時: \n9月7日（月） 18:30～\n\n\n会場: \nトラットリアパラン茨城県那珂郡東海村白方443-1029-282-0406\n\n\n会費:\n¥5\,500\n\n\n\n＊会場等は変更になる可能性があります。＊バス送迎はありません。＊IQBRCより会場まで徒歩約10分となります。＊懇親会の出欠を変更したい場合、前日(9/6)までにご連絡ください。\n\n\n       \n \n宿泊\n \nJ-PARCのユーザー用宿泊施設（東海ドミトリー） をご利用いただけます。費用は一泊￥2\,500です。ご利用の際はユーザー登録手続きが必要になります。 \n研究会世話人\n佐藤正俊（代表）、中尾朗子、宗像孝司、花島隆泰、茂吉武人（以上CROSS）、\n      大原高志（JAEA J-PARC）、鬼柳亮嗣（JAEA J-PARC）、神山崇（KEK J-PARC）、\n      鳥居周輝（KEK J-PARC） \n問い合わせ先\n一般財団法人 総合科学研究機構 東海事業センター研究会事務局Email :  \n主催\n一般財団法人 総合科学研究機構 東海事業センター （CROSS東海）（J-PARC特定中性子線施設・登録施設利用促進機関） \n共催\nJ-PARCセンター（JAEA/KEK） \n協賛\n日本中性子科学会物質構造科学研究所
URL:https://archive2019nt.cross.or.jp/events/v15016/
LOCATION:いばらき量子ビーム研究センター（IQBRC） B101大会議室\, 白方162-1\, 那珂郡東海村\, 茨城県\, 319-1106\, Japan
CATEGORIES:ワークショップ
ATTACH;FMTTYPE=image/png:https://archive2019nt.cross.or.jp/wp/wp-content/uploads/2018/01/noimg.png
END:VEVENT
END:VCALENDAR