BEGIN:VCALENDAR
VERSION:2.0
PRODID:-//CROSS 中性子科学センター（2019年アーカイブ） - ECPv5.14.1//NONSGML v1.0//EN
CALSCALE:GREGORIAN
METHOD:PUBLISH
X-WR-CALNAME:CROSS 中性子科学センター（2019年アーカイブ）
X-ORIGINAL-URL:https://archive2019nt.cross.or.jp
X-WR-CALDESC:CROSS 中性子科学センター（2019年アーカイブ） のイベント
BEGIN:VTIMEZONE
TZID:Asia/Tokyo
BEGIN:STANDARD
TZOFFSETFROM:+0900
TZOFFSETTO:+0900
TZNAME:JST
DTSTART:20150101T000000
END:STANDARD
END:VTIMEZONE
BEGIN:VEVENT
DTSTART;VALUE=DATE:20151201
DTEND;VALUE=DATE:20151206
DTSTAMP:20260426T034734
CREATED:20180126T053532Z
LAST-MODIFIED:20180322T154514Z
UID:3885-1448928000-1449359999@archive2019nt.cross.or.jp
SUMMARY:第7回 AONSA Neutron school
DESCRIPTION:会議開催報告はこちら\n開催日\n2015年12月1日（月）～5日（土） \n場所\nJ-PARCセンター \n主催\nAsia-Oceania Neutron Scattering Association (AONSA) 日本中性子科学会日本中間子科学会物質・生命科学実験施設 (J-PARC MLF)一般財団法人総合科学研究機構 東海事業センター (CROSS) \n  \n詳細は、"The 7th AONSA Neutron School" のホームページ をご覧ください。
URL:https://archive2019nt.cross.or.jp/events/v15019/
LOCATION:J-PARCセンター\, 茨城県那珂郡東海村白方2-4\, 319-1106
CATEGORIES:セミナー,研究会
ATTACH;FMTTYPE=image/png:https://archive2019nt.cross.or.jp/wp/wp-content/uploads/2018/01/noimg.png
END:VEVENT
END:VCALENDAR