BEGIN:VCALENDAR
VERSION:2.0
PRODID:-//CROSS 中性子科学センター（2019年アーカイブ） - ECPv5.14.1//NONSGML v1.0//EN
CALSCALE:GREGORIAN
METHOD:PUBLISH
X-WR-CALNAME:CROSS 中性子科学センター（2019年アーカイブ）
X-ORIGINAL-URL:https://archive2019nt.cross.or.jp
X-WR-CALDESC:CROSS 中性子科学センター（2019年アーカイブ） のイベント
BEGIN:VTIMEZONE
TZID:Asia/Tokyo
BEGIN:STANDARD
TZOFFSETFROM:+0900
TZOFFSETTO:+0900
TZNAME:JST
DTSTART:20150101T000000
END:STANDARD
END:VTIMEZONE
BEGIN:VEVENT
DTSTART;TZID=Asia/Tokyo:20151125T095500
DTEND;TZID=Asia/Tokyo:20151125T170500
DTSTAMP:20260426T034123
CREATED:20180126T052602Z
LAST-MODIFIED:20180126T052602Z
UID:3873-1448445300-1448471100@archive2019nt.cross.or.jp
SUMMARY:平成27年度中性子実験技術基礎講習会（レベル１講習会）
DESCRIPTION:平成27年度中性子実験技術基礎講習会（レベル１講習会）\n中性子実験技術の初心者の方を対象に中性子実験技術の基礎的事項を紹介し、パルス中性子実験施設であるJ-PARC/MLFや原子炉中性子源である研究用原子炉JRR-3での実験計画立案や課題申請に役立てていただくことを目的として、中性子実験技術基礎講習会(レベル１講習会)を開催します。多くの皆さまのご参加をお願いします。\n開催日時\n2015年11月25日（水） 9:55～17:05 \n場所\n研究社英語センター 中会議室〒162-0825 新宿区神楽坂1-2Tel: 03-3269-4331 \nJR中央・総武線飯田橋駅西口徒歩約3分東京メトロ南北線・有楽町線飯田橋駅B2a、B3出口徒歩約7分 \n定員\n30名程度ただし、中性子産業利用推進協議会メンバー企業の方を優先いたします。 \n参加費用\n中性子産業利用推進協議会メンバー企業の方、中性子科学会の会員の方、学生の方は無料です。それ以外の方は１万円／名をいただきます。学生の方は学生証表裏をpdfファイルにコピーして添付してください。 \n協議会参加の企業・団体については中性子産業利用推進協議会のホームページ でご確認ください。 \n申込み、参加費支払、問い合わせ先\n詳細については、中性子産業利用推進協議会のホームページ をご連絡下さい。 \nプログラム\n\n\n9:55 – 10:00\n開会挨拶\n林 眞琴（茨城県企画部）\n\n\n10:00 – 10:40\n中性子の基礎\n鈴木淳市（CROSS東海）\n\n\n10:40 – 11:30\n結晶構造解析\n鬼柳亮嗣（J-PARCセンター）\n\n\n11:30 – 12:10\n残留応力測定\n鈴木裕士（JAEA）\n\n\n12:10 – 13:10\n昼食\n \n\n\n13:10 – 14:00\n小角散乱\n遠藤仁（J-PARCセンター）\n\n\n14:00 – 14:50\n反射率\n山崎大（J-PARCセンター）\n\n\n14:50 – 15:00\n休憩\n \n\n\n15:00 – 15:50\n準弾性散乱\n柴田薫（J-PARCセンター）\n\n\n15:50 – 16:30\nラジオグラフィ\n甲斐哲也（J-PARCセンター）\n\n\n16:30 – 17:00\n中性子の産業利用\n峯村哲郎（茨城県）\n\n\n17:00 – \n閉講挨拶\n \n\n\n主催\n中性子産業利用推進協議会日本中性子科学会総合科学研究機構 東海事業センター（CROSS東海）
URL:https://archive2019nt.cross.or.jp/events/v15022/
LOCATION:研究社英語センター 中会議室\, 神楽坂1-2\, 新宿区\, 東京都\, 162-0825\, Japan
CATEGORIES:研究会
ATTACH;FMTTYPE=image/png:https://archive2019nt.cross.or.jp/wp/wp-content/uploads/2018/01/noimg.png
ORGANIZER;CN="%E4%B8%AD%E6%80%A7%E5%AD%90%E7%94%A3%E6%A5%AD%E5%88%A9%E7%94%A8%E6%8E%A8%E9%80%B2%E5%8D%94%E8%AD%B0%E4%BC%9A":MAILTO:info＠j-neutron.com
END:VEVENT
END:VCALENDAR