BEGIN:VCALENDAR
VERSION:2.0
PRODID:-//CROSS 中性子科学センター（2019年アーカイブ） - ECPv5.14.1//NONSGML v1.0//EN
CALSCALE:GREGORIAN
METHOD:PUBLISH
X-WR-CALNAME:CROSS 中性子科学センター（2019年アーカイブ）
X-ORIGINAL-URL:https://archive2019nt.cross.or.jp
X-WR-CALDESC:CROSS 中性子科学センター（2019年アーカイブ） のイベント
BEGIN:VTIMEZONE
TZID:Asia/Tokyo
BEGIN:STANDARD
TZOFFSETFROM:+0900
TZOFFSETTO:+0900
TZNAME:JST
DTSTART:20150101T000000
END:STANDARD
END:VTIMEZONE
BEGIN:VEVENT
DTSTART;VALUE=DATE:20151014
DTEND;VALUE=DATE:20151016
DTSTAMP:20260426T034844
CREATED:20151014T051324Z
LAST-MODIFIED:20180209T071638Z
UID:3869-1444780800-1444953599@archive2019nt.cross.or.jp
SUMMARY:第16回「電子物性研究とその将来」
DESCRIPTION:Workshop: CROSSroads of Users and J-PARC第16回「電子物性研究とその将来」\nJ-PARC物質・生命研究施設(MLF)では大強度中性子源と最新の装置開発技術により、これまでの中性子散乱装置では実現できなかった測定が可能となってきました。例えば、数十ミリグラムの微小結晶を用いた非弾性散乱実験や、1 eVに迫る高エネルギー領域での非弾性散乱測定等が実施され、新しい物理に対する挑戦的な実験も行われるようになりました。今回の研究会ではその有力な装置であるBL01(4SEASONS)、BL12(HRC)、BL14(AMATERAS)に焦点を当てて、現在ご活躍中の先生方に講演を依頼し、将来、中性子非弾性散乱がその役割を果たしていくべき方向性を見据えた議論を進めたいと考えております。\nつきましては以下の要領にて開催を予定しておりますので、該当分野に興味をお持ちの方のご参加をお待ちしております。\n開催日\n2015年10月14日（水）～15日（木） \n場所\nいばらき量子ビーム研究センター B101会議室 \n\n交通アクセス\n\nシャトルバス（JR東海駅～いばらき量子ビーム研究センター・JAEA）にはご乗車できませんのでご注意ください。東海駅からは、タクシーまたは東海村路線バス（茨城交通）をご利用ください。 \n参加費\n無料 \n使用言語\n日本語 \n申込方法\n以下のフォームからお申し込みください。 \n \nプログラム （9月10日現在）\n \nこちら をご覧ください。 [PDF: 178KB] \n懇親会\n\n\n日時: \n10月14日（水） 18:30～\n\n\n会場: \nトラットリアパラン茨城県那珂郡東海村白方443-1029-282-0406\n\n\n会費:\n¥5\,500\n\n\n\n＊会場等は変更になる可能性があります。＊バス送迎はありません。＊IQBRCより会場まで徒歩約10分となります。＊懇親会の出欠を変更したい場合、前日(10/13)までにご連絡ください。\n\n\n\n詳細が決まり次第、掲載いたします。\n\n\n       \n \n宿泊\n \nJ-PARCのユーザー用宿泊施設（東海ドミトリー） をご利用いただけます。費用は一泊￥2\,500です。ご利用の際はユーザー登録手続きが必要になります。 \n研究会世話人\n佐藤正俊（代表）、飯田一樹、蒲沢和也、池内和彦（以上CROSS）、\n      河村聖子（JAEA J-PARC）、左右田稔（東大物性研） \n問い合わせ先\n一般財団法人 総合科学研究機構 東海事業センター研究会事務局Email :  \n主催\n一般財団法人 総合科学研究機構 東海事業センター （CROSS東海）（J-PARC特定中性子線施設・登録施設利用促進機関） \n共催\nJ-PARCセンター（JAEA/KEK） \n協賛\n日本中性子科学会
URL:https://archive2019nt.cross.or.jp/events/v15024/
LOCATION:いばらき量子ビーム研究センター（IQBRC） B101大会議室\, 白方162-1\, 那珂郡東海村\, 茨城県\, 319-1106\, Japan
CATEGORIES:ワークショップ
ATTACH;FMTTYPE=image/png:https://archive2019nt.cross.or.jp/wp/wp-content/uploads/2018/01/noimg.png
END:VEVENT
END:VCALENDAR