BEGIN:VCALENDAR
VERSION:2.0
PRODID:-//CROSS 中性子科学センター（2019年アーカイブ） - ECPv5.14.1//NONSGML v1.0//EN
CALSCALE:GREGORIAN
METHOD:PUBLISH
X-WR-CALNAME:CROSS 中性子科学センター（2019年アーカイブ）
X-ORIGINAL-URL:https://archive2019nt.cross.or.jp
X-WR-CALDESC:CROSS 中性子科学センター（2019年アーカイブ） のイベント
BEGIN:VTIMEZONE
TZID:Asia/Tokyo
BEGIN:STANDARD
TZOFFSETFROM:+0900
TZOFFSETTO:+0900
TZNAME:JST
DTSTART:20150101T000000
END:STANDARD
END:VTIMEZONE
BEGIN:VEVENT
DTSTART;TZID=Asia/Tokyo:20151006T103000
DTEND;TZID=Asia/Tokyo:20151006T165000
DTSTAMP:20260426T034916
CREATED:20180126T050914Z
LAST-MODIFIED:20180126T050914Z
UID:3861-1444127400-1444150200@archive2019nt.cross.or.jp
SUMMARY:茨城県中性子利用促進研究会　平成27年度磁石材料分科会
DESCRIPTION:茨城県中性子利用促進研究会平成27年度磁石材料分科会\nHEVやEVなど環境対応自動車を始め、省エネ機器などにおいても磁石モーターの需要が拡大し、高性能磁石開発への期待が益々高まっています。こうした期待に応えるべく、国内では平成24年度から元素戦略プロジェクト磁性材料研究拠点における研究開発が開始され、3年半が経過しています。一方、茨城県でも、早くからiMATERIAの茨城県プロジェクト課題に取り上げて重点的に取り組んでいます。本研究会では、磁石材料構造解析研究の現状、およびiMATERIAでの解析手法をチュートリアルとして紹介するとともに、元素戦略プロジェクトの最近の進展状況、並びに放射光などの量子ビームによる磁石材料構造解析の最新事例も紹介し、量子ビームによる磁石材料研究の今後を展望します。\n開催日時\n2015年10月6日（火） 10:30～16:50 \n場所\nエッサム神田ホール401会議室〒101-0045 東京都千代田区神田鍛冶町3-2-2Tel: 03-3254-8787 \nJR神田駅北口 徒歩1分東京メトロ銀座線 神田駅 3出口前 \n申込方法\n下記の内容をご記入のうえ、メールでお申し込みください。——————————————– (1) お名前 (2) ご所属 (3) ご連絡先 （電話番号、メールアドレス） (4) 交流会に  参加する / 参加しない※懇親会への参加を当日キャンセルされた場合、会費をいただきますのでご了承ください。——————————————–取り纏めの都合上、10月5日（月）までにご連絡をお願いいたします。 \n【申込み、問い合わせ先】茨城県中性子利用推進研究会事務局 田中志穂Email: tanaka＠ibaraki-neutrons.jp \n交流会\n神田駅近くの「ワインホール130」で交流会を開催します。講演者と参加者のざっくばらんな意見の交換の場になりますので、是非ご参加ください。参加希望者は10月5日(月)までに登録してください。参加費は当日いただきます。なお、当日キャンセルされた場合には参加費をいただきます。 \n\n\n会費:\n¥2\,000 （領収書を発行します）\n          \n\n\n時間:\n17:10～19:10\n\n\n会場:\nワインホール130 〒101-0047 東京都千代田区内神田3-18-8 ナルミビル4F\n\n\n\n      大きな地図で見る\n      \nテーマ\n量子ビームによる磁石材料研究の最前線 \nプログラム\n\n\n10:30 – 10:35\n開会挨拶\n分科会代表小野寛太 （KEK）\n\n\n10:35 – 10:50\niMATERIAの産業利用の状況\n林　眞琴 （茨城県）\n\n\n【チュートリアル】\n\n\n10:50 – 11:40\n量子ビームを用いた磁石材料研究の現状\n小野寛太（KEK）\n\n\n11:40 – 12:15\niMATERIAによる磁石材料構造解析－Z-Reitveld M の概要－\n石垣　徹（茨城大）\n\n\n12:15 – 13:15\n昼食\n \n\n\n【元素戦略プロジェクトの進展】\n\n\n13:15 – 14:00\n元素戦略プロジェクトにおける永久磁石材料研究開発の成果と展開\n広沢　哲（NIMS）\n\n\n14:00 – 14:40\n磁石理論研究の進展と量子ビーム研究への期待\n三宅　隆（産総研）\n\n\n14:40 – 14:55\n休憩\n \n\n\n【量子ビームを用いた磁石研究の最前線】\n\n\n14:55 – 15:35\n放射光を用いたNd-Fe-B磁石構成相の高温in-situ X 線解析\n中村哲也（JASRI）\n\n\n15:35 – 16:05\n中性子回折による磁気構造及びサイト選択性の解析\n斉藤耕太郎（KEK）\n\n\n16:05 – 16:45\n中性子小角散乱を用いた磁石材料構造解析\n上野哲朗（NIMS）\n\n\n16:45 – 16:50\n閉会挨拶\n \n\n\n17:10 – 19:10\n懇親会\n \n\n\n主催\n茨城県中性子利用促進研究会 \n共催\n中性子産業利用推進協議会総合科学研究機構 東海事業センター （CROSS東海）元素戦略プロジェクト磁性材料研究拠点 \n協賛\nJ-PARC/MLF利用者懇談会
URL:https://archive2019nt.cross.or.jp/events/v15026/
LOCATION:エッサム神田ホール 401会議室\, 神田鍛冶町3-2-2\, 千代田区\, 東京都\, 101-0045\, Japan
CATEGORIES:分科会
ATTACH;FMTTYPE=image/png:https://archive2019nt.cross.or.jp/wp/wp-content/uploads/2018/01/noimg.png
END:VEVENT
END:VCALENDAR