BEGIN:VCALENDAR
VERSION:2.0
PRODID:-//CROSS 中性子科学センター（2019年アーカイブ） - ECPv5.14.1//NONSGML v1.0//EN
CALSCALE:GREGORIAN
METHOD:PUBLISH
X-WR-CALNAME:CROSS 中性子科学センター（2019年アーカイブ）
X-ORIGINAL-URL:https://archive2019nt.cross.or.jp
X-WR-CALDESC:CROSS 中性子科学センター（2019年アーカイブ） のイベント
BEGIN:VTIMEZONE
TZID:Asia/Tokyo
BEGIN:STANDARD
TZOFFSETFROM:+0900
TZOFFSETTO:+0900
TZNAME:JST
DTSTART:20160101T000000
END:STANDARD
END:VTIMEZONE
BEGIN:VEVENT
DTSTART;TZID=Asia/Tokyo:20160301T100000
DTEND;TZID=Asia/Tokyo:20160301T170000
DTSTAMP:20260426T093446
CREATED:20180126T040858Z
LAST-MODIFIED:20210304T092311Z
UID:3825-1456826400-1456851600@archive2019nt.cross.or.jp
SUMMARY:平成27年度第2回残留ひずみ・応力解析研究会
DESCRIPTION:概要\n機械構造部材の強度評価においては溶接や機械加工などにより導入される残留応力\nの評価が極めて重要である。特に、非破壊手法による残留応力測定技術に対する期待が大きい。本研究会においては、チュートリアルにおいて表面処理や機械加工により形成される残留応力と強度の関係、ならびに、２次元検出器を用いた高精度残留応力測定技術の講義を行うとともに、実機部材への適用事例を紹介する。また、海外の中性子実験施設における残留応力測定装置とその実機への適用例も紹介する。 \n開催日時\n2016年3月1日（火） 10:00～17:00 \n場所\n研究社英語センター大会議室〒162-0825 新宿区神楽坂1-2Tel: 03-3269-4331 \nJR総武線飯田橋駅西口徒歩約3分東京メトロ南北線・有楽町線飯田橋駅B2a、B3出口徒歩約7分 \n参加費\n参加費は無料ですが、資料代として¥5\,000いただきます。なお、中性子産業利用推進協議会の会員の方と大学、研究機関の方は無料です。それ以外の方は事務局までご相談ください。資料代は当日徴収いたします。 \n協議会参加の企業・団体については中性子産業利用推進協議会のホームページ でご確認ください。 \n申込方法\n下記の内容をご記入のうえ、メールでお申し込みください。——————————————– (1) お名前 (2) ご所属 (3) ご連絡先 （電話番号、メールアドレス） (4) 交流会に  参加する / 参加しない＊交流会への参加を当日キャンセルされた場合、会費をいただきますのでご了承ください。——————————————– \n【申込み、問い合わせ先】中性子産業利用推進協議会事務局 大内 薫Email: info＠j-neutron.com \n交流会\n神楽坂の地ビールダイニング「ラ・カシェット」で交流会を開催します.参加費は2\,000円です。施設側とユーザーのざっくばらんな意見の交換の場になります。是非ご参加ください。詳細は文末をご参照ください。参加希望者は事前に登録してください。当日も受け付けます。会費は当日受け付けます。なお、事前に登録されて当日キャンセルされた場合には会費を申し受けます。 \n\n\n会費:\n¥2\,000\n\n\n時間:\n17:20～19:20\n\n\n会場:\n神楽坂の「ラ・カシェット」で交流会を開催します。 〒162-0825 東京都新宿区神楽坂1-10 三経第22 ビル3F\n\n\nテーマ\n機械加工と熱処理による残留応力とその評価 \nプログラム\n\n\n10:00 – 10:05\n開会挨拶\n主査秋庭義明（横浜国立大学）\n\n\n10:05 – 10:25\nJ-PARC/MLFの概要と中性子の産業利用\n林眞琴（茨城県）\n\n\n【実機の残留応力１】\n\n\n10:25 – 10:55\n複合材料(SFRP)のX線応力測定\n岩堀恵介（デンソー）\n\n\n10:55 – 11:25\n鉄道レールの転がり疲労とシェリング損傷のX線回折による評価\n佐々木敏彦（金沢大学）\n\n\n【チュートリアル】\n\n\n11:25 – 12:15\n複合表面処理および摩擦撹拌接合した金属材料の各種特性と残留応力\n森田辰郎（京都工芸繊維大学）\n\n\n12:15 – 13:10\n昼食\n \n\n13:10 – 14:00\n２次元検出器を利用したX線応力測定法\n鈴木賢治（新潟大学）\n\n\n【実機の残留応力２】\n\n\n14:00 – 14:30\n放射光を利用した超電導線材の低温負荷中ひずみ評価 \n菅野未知央（KEK）\n\n\n14:30 – 15:00\n線形摩擦接合体の残留応力評価\n津乗充良（IHI）\n\n\n15:00 – 15:10\n休憩\n \n\n\n【放射光残留応力測定装置】\n\n\n15:10 – 15:50\n卓上型放射光装置の紹介と残留応力測定の実施例\n山田廣成（光子発生技術研究所）\n\n\n【海外の応力測定装置】\n\n\n15:50 – 16:20\nNRU L3の概要と残留応力測定例（仮題）\nRon Rogge（Canadian NuclearLaboratories，カナダ）\n\n\n16:20 – 16:50\nMitigation of residual stresses in large scale components \nAnna Paradowska(ANSTO，豪州)\n\n\n16:50 – 16:55\n閉会挨拶\n秋庭義明（横浜国立大学）\n\n\n16:55 – 17:00\n閉会挨拶&お知らせ\n峯村哲郎(茨城県)\n\n\n共催\n中性子産業利用推進協議会\n      茨城県中性子利用促進研究会\n      総合科学研究機構 東海事業センター（CROSS東海）\n      SPring-8ユーザー協同体\n      JAEA微細構造解析プラットフォーム\n      NIMS微細構造解析プラットフォーム \n協賛\nJ-PARC/MLF利用者懇談会日本材料学会X線材料強度部門委員会
URL:https://archive2019nt.cross.or.jp/events/v16008/
LOCATION:研究社英語センター大会議室\, 神楽坂1-2\, 新宿区\, 東京都\, 162-0825\, Japan
CATEGORIES:研究会
ATTACH;FMTTYPE=image/png:https://archive2019nt.cross.or.jp/wp/wp-content/uploads/2018/01/noimg.png
ORGANIZER;CN="%E4%B8%AD%E6%80%A7%E5%AD%90%E7%94%A3%E6%A5%AD%E5%88%A9%E7%94%A8%E6%8E%A8%E9%80%B2%E5%8D%94%E8%AD%B0%E4%BC%9A":MAILTO:info＠j-neutron.com
END:VEVENT
END:VCALENDAR