BEGIN:VCALENDAR
VERSION:2.0
PRODID:-//CROSS 中性子科学センター（2019年アーカイブ） - ECPv5.14.1//NONSGML v1.0//EN
CALSCALE:GREGORIAN
METHOD:PUBLISH
X-WR-CALNAME:CROSS 中性子科学センター（2019年アーカイブ）
X-ORIGINAL-URL:https://archive2019nt.cross.or.jp
X-WR-CALDESC:CROSS 中性子科学センター（2019年アーカイブ） のイベント
BEGIN:VTIMEZONE
TZID:Asia/Tokyo
BEGIN:STANDARD
TZOFFSETFROM:+0900
TZOFFSETTO:+0900
TZNAME:JST
DTSTART:20160101T000000
END:STANDARD
END:VTIMEZONE
BEGIN:VEVENT
DTSTART;TZID=Asia/Tokyo:20160322T100000
DTEND;TZID=Asia/Tokyo:20160322T165000
DTSTAMP:20260426T034110
CREATED:20180126T040048Z
LAST-MODIFIED:20180126T040059Z
UID:3823-1458640800-1458665400@archive2019nt.cross.or.jp
SUMMARY:平成27年度ソフトマター中性子散乱研究会
DESCRIPTION:平成27年度ソフトマター中性子散乱研究会\nX線・中性子・電子線によるイメージング・顕微鏡法の進歩には目覚ましいものがある。本研究会では、この各種イメージング・顕微鏡法による研究を中性子の利用へと拡げることで、各種イメージング・顕微鏡法用いたソフトマター研究への産業利用基盤の構築を目的とする。\n開催日時\n2016年3月22日（火） 10:00～16:50 \n場所\nエッサム神田ホール401会議室〒101-0045 東京都千代田区神田鍛冶町3-2-2Tel: 03-3254-8787 \nJR神田駅北口 徒歩1分東京メトロ銀座線 神田駅 3出口前 \n参加費\n参加費は無料ですが、資料代として¥5\,000いただきます。なお、中性子産業利用推進協議会の会員の方と大学、研究機関の方は無料です。それ以外の方は事務局までご相談ください。資料代は当日徴収いたします。 \n協議会参加の企業・団体については中性子産業利用推進協議会のホームページ でご確認ください。 \n申込方法\n下記の内容をご記入のうえ、メールでお申し込みください。——————————————– (1) お名前 (2) ご所属 (3) ご連絡先 （電話番号、メールアドレス） (4) 交流会に  参加する / 参加しない＊交流会への参加を当日キャンセルされた場合、会費をいただきますのでご了承ください。——————————————– \n【申込み、問い合わせ先】中性子産業利用推進協議会事務局 大内薫Email: info＠j-neutron.com \n交流会\n神田駅近くの「ワインホール130」で交流会を開催します。講演者と参加者のざっくばらんな意見の交換の場になりますので、是非ご参加ください。参加希望者は1月15日(金)までに登録してください。参加費は当日いただきます。なお、当日キャンセルされた場合には参加費をいただきます。 \n\n\n会費:\n¥2\,000（領収書を発行します）\n\n\n時間:\n17:10～19:10\n\n\n会場:\nワインホール130 〒101-0047 東京都千代田区内神田3-18-8 ナルミビル4F\n\n\nテーマ\n量子ビームによるイメージング産業への応用 \nプログラム\n\n\n10:00 – 10:05\n開会挨拶\n研究会主査竹中幹人（京都大学）\n\n\n10:05 – 10:20\nJ-PARC/MLFの概要と中性子の産業利用\n林眞琴（茨城県）\n\n\n【チュートリアル】\n\n\n10:20 – 11:05\nX線によるイメージング\n矢代航（東北大学）\n\n\n11:05 – 11:50\nTEMによるソフトマターの構造解析\n堀内伸（産総研）\n\n\n11:50 – 13:00\n昼食\n \n\n\n13:00 – 13:45\n中性子イメージング\n篠原武尚（J-PARCセンター）\n\n\n13:45 – 14:30\nコヒーレントX線イメージング\n西野吉則（北海道大学）\n\n\n14:30 – 15:00\nGISAXS-CT\n小川紘樹（京都大学）\n\n\n15:00 – 15:10\n休憩\n \n\n\n【産業応用】\n\n\n15:15 – 15:45\nX線イメージング法によるタイヤの摩耗の研究\n網野直也（横浜ゴム）\n\n\n15:45 – 16:15\nSANS/SAXSによるフェノール樹脂の構造解析\n伊藤廉（ミルボン）\n\n\n16:15 – 16:45\nX線CTによる樹脂架橋発泡体の気泡構造評価\n立石純一郎（アシックス）\n\n\n16:45 – 16:50\n閉会挨拶&お知らせ\n峯村哲郎（茨城県）\n\n\n主催\n中性子産業利用推進協議会茨城県中性子利用促進研究会総合科学研究機構 東海事業センター （CROSS東海）J-PARC/MLF利用者懇談会 \n共催\nフロンティアソフトマター開発産学連合ビームライン
URL:https://archive2019nt.cross.or.jp/events/v16009/
LOCATION:エッサム神田ホール 401会議室\, 神田鍛冶町3-2-2\, 千代田区\, 東京都\, 101-0045\, Japan
CATEGORIES:研究会
ATTACH;FMTTYPE=image/png:https://archive2019nt.cross.or.jp/wp/wp-content/uploads/2018/01/noimg.png
ORGANIZER;CN="%E4%B8%AD%E6%80%A7%E5%AD%90%E7%94%A3%E6%A5%AD%E5%88%A9%E7%94%A8%E6%8E%A8%E9%80%B2%E5%8D%94%E8%AD%B0%E4%BC%9A":MAILTO:info＠j-neutron.com
END:VEVENT
END:VCALENDAR