BEGIN:VCALENDAR
VERSION:2.0
PRODID:-//CROSS 中性子科学センター（2019年アーカイブ） - ECPv5.14.1//NONSGML v1.0//EN
CALSCALE:GREGORIAN
METHOD:PUBLISH
X-WR-CALNAME:CROSS 中性子科学センター（2019年アーカイブ）
X-ORIGINAL-URL:https://archive2019nt.cross.or.jp
X-WR-CALDESC:CROSS 中性子科学センター（2019年アーカイブ） のイベント
BEGIN:VTIMEZONE
TZID:Asia/Tokyo
BEGIN:STANDARD
TZOFFSETFROM:+0900
TZOFFSETTO:+0900
TZNAME:JST
DTSTART:20160101T000000
END:STANDARD
END:VTIMEZONE
BEGIN:VEVENT
DTSTART;TZID=Asia/Tokyo:20160310T130000
DTEND;TZID=Asia/Tokyo:20160310T170000
DTSTAMP:20260426T034121
CREATED:20180125T224448Z
LAST-MODIFIED:20210304T092057Z
UID:3796-1457614800-1457629200@archive2019nt.cross.or.jp
SUMMARY:平成27年度第2回生物構造学研究会
DESCRIPTION:場所\n研究社英語センター 大会議室\n      〒162-0825　新宿区神楽坂1-2\n      （JR 飯田橋駅西口より徒歩3 分） \n参加費\n無料ですが、資料代として¥5\,000いただきます。なお、中性子産業利用推進協議会の会員の皆様と大学、研究機関の方は無料です。それ以外の方は事務局までご相談ください。資料代は当日徴収いたします。 \n申込方法\n下記の内容をご記入のうえ、メールでお申し込みください。——————————————– (1) お名前 (2) ご所属 (3) ご連絡先 （電話番号、メールアドレス） (4) 交流会に  参加する / 参加しない＊交流会への参加を当日キャンセルされた場合、会費をいただきますのでご了承ください。——————————————– \n【申込み、問い合わせ先】中性子産業利用推進協議会事務局 大内　薫Email: info＠j-neutron.com \n交流会\n近くの地ビールダイニング「ラ・カシェット」で交流会を開催します。施設側とユーザーのざっくばらんな意見の交換の場になります。是非ご参加ください。参加希望者は事前に登録してください。当日も受け付けます。 \n\n\n会費:\n¥2\,000　（領収書を発行します）\n\n\n時間:\n17:20～19:20\n\n\n会場:\n神楽坂 ラ・カシェット 〒162-0825 東京都新宿区神楽坂1-10 三経第22ビル3F\n\n\nテーマ\n「中性子で観る水・生命体のダイナミクス」 \nプログラム\n\n\n13:00 – 13:05\n開会挨拶\n研究会主査佐藤 衛（横浜市立大学）\n\n\n【中性子と水】\n\n\n13:05 – 13:45\n中性子で観る水：生体高分子と水分子の不思議な関係\n菅原洋子（北里大学）\n\n\n【ダイナミクスと酵素】\n\n\n13:45 – 14:15\nタンパク質の動態を可視化する高速AFM\n安藤敏夫（金沢大学）\n\n\n14:15 – 14:45\n電顕イメージングと計算機シミュレーションによる2Dハイブリッド解析\n岩崎憲治（大阪大学）\n\n\n14:45 – 15:15\nNMRによる酵素のダイナミクスとプロトネーション\n池上貴久（横浜市立大学）\n\n\n15:15 – 15:25\n休憩\n \n\n\n15:25 – 15:55\n酵素によるオリゴ糖合成を目指した立体構造解析\n伏信進矢（東京大学）\n\n\n【結晶】\n\n\n15:55 – 16:25\nタンパク質の結晶物性（仮題）\n橘勝（横浜市立大学）\n\n\n16:25 – 16:55\nタンパク質結晶化における新しい技術\n高野和文（京都府立大学）\n\n\n16:55 – \n閉会挨拶\n今野美智子（茨城県）\n\n\n17:00 – \nお知らせ\n林眞琴（茨城県）\n\n\n主催\n中性子産業利用推進協議会茨城県中性子利用促進研究会総合科学研究機構 東海事業センター （CROSS東海） \n共催\n日本学術振興会第169委員会 中性子回折小委員会（予定）新世代研究所 水和ナノ構造研究会 \n協賛\nJ-PARC/MLF利用者懇談会
URL:https://archive2019nt.cross.or.jp/events/v16010/
LOCATION:研究社英語センター大会議室\, 神楽坂1-2\, 新宿区\, 東京都\, 162-0825\, Japan
CATEGORIES:研究会
ATTACH;FMTTYPE=image/png:https://archive2019nt.cross.or.jp/wp/wp-content/uploads/2018/01/noimg.png
ORGANIZER;CN="%E4%B8%AD%E6%80%A7%E5%AD%90%E7%94%A3%E6%A5%AD%E5%88%A9%E7%94%A8%E6%8E%A8%E9%80%B2%E5%8D%94%E8%AD%B0%E4%BC%9A":MAILTO:info＠j-neutron.com
END:VEVENT
END:VCALENDAR