BEGIN:VCALENDAR
VERSION:2.0
PRODID:-//CROSS 中性子科学センター（2019年アーカイブ） - ECPv5.14.1//NONSGML v1.0//EN
CALSCALE:GREGORIAN
METHOD:PUBLISH
X-WR-CALNAME:CROSS 中性子科学センター（2019年アーカイブ）
X-ORIGINAL-URL:https://archive2019nt.cross.or.jp
X-WR-CALDESC:CROSS 中性子科学センター（2019年アーカイブ） のイベント
BEGIN:VTIMEZONE
TZID:Asia/Tokyo
BEGIN:STANDARD
TZOFFSETFROM:+0900
TZOFFSETTO:+0900
TZNAME:JST
DTSTART:20160101T000000
END:STANDARD
END:VTIMEZONE
BEGIN:VEVENT
DTSTART;TZID=Asia/Tokyo:20160715T130000
DTEND;TZID=Asia/Tokyo:20160715T170000
DTSTAMP:20260426T093430
CREATED:20180125T223650Z
LAST-MODIFIED:20180125T223650Z
UID:3792-1468587600-1468602000@archive2019nt.cross.or.jp
SUMMARY:界面ナノ電子化学研究会／CROSS東海合同セミナー
DESCRIPTION:界面ナノ電子化学研究会／CROSS東海合同セミナー\n      「界面ナノ電子化学における中性子解析の可能性」\n趣旨：先端半導体デバイスは構造の微細化および電子材料の多様化が急速に進んでおり、半導体製造に用いられるウェットプロセス技術の開発には、固体／液体界面における現象をナノレベルで理解することが必要となっています。近年進展著しい中性子解析技術は、電子材料表面や洗浄媒体の挙動を明らかにし、次世代ウェットプロセス技術の開発に結び付く知見が得られると期待されます。本セミナーは中性子解析の基礎および最先端の成果を紹介し、ウェットプロセス技術開発への活用について議論する場を提供します。\n日時\n2016年7月15日（金）13:00～17:00 \n場所\n関東化学株式会社本社\n      〒103-0022東京都中央区日本橋室町2-2-1室町東三井ビルディング19F\n      交通：銀座線・半蔵門線 三越前駅A6出口直結／総武線新日本橋駅A6出口直結\n《地図》 \n参加費\n無料（事前登録制）\n      ※交流会参加費　事前申込：5000円 当日：6000円 \n申込方法\n参加者の\n        1)所属機関　2) 部署名　3) 役職名　4) 電話番号　5) 懇親会※参加可否\n        を記載の上、e-mailにて下記までお申し込み下さい。\n        申込先：INE事務局 矢野大作（オルガノ株式会社） \n        e-mail： \n定員\n50名 \n主催\n界面ナノ電子化学研究会（INE） \n総合科学研究機構中性子科学センター（CROSS東海） \n協賛\n埋もれた界面のX線・中性子解析研究会 \n      中性子産業利用推進協議会  \nプログラム（題目はすべて仮題）\n\n\n13:00～13:05\n開会挨拶\n\n\n13:05～13:35\n［チュートリアル］中性子反射率法の原理\n山田悟史（KEK）\n\n\n13:35～14:35\n［招待講演］リン脂質二分子膜中の水のダイナミクス\n山田武 （CROSS東海）\n\n\n14:35～14:50\n休憩\n\n\n14:50～15:50\n［招待講演］中性子反射率法による固体/液体界面の構造解析\n川口大輔（九州大学）\n\n\n15:50～16:50\n［招待講演］放射光・中性子を用いたシリコン表面・界面構造解析の現状と将来展望\n矢代航（東北大学）\n\n\n16:50～17:10\n総合討論\n\n\n17:10～17:15\n閉会挨拶\n\n\n17:30～19:30\n懇親会\n\n\n  \n詳細は 界面ナノ電子化学研究会のちらし のホームページをご覧ください。
URL:https://archive2019nt.cross.or.jp/events/v16012/
LOCATION:関東化学株式会社本社\, 日本橋室町2-2-1室町東三井ビルディング 19F\, 中央区\, 東京都\, 103-0022\, Japan
CATEGORIES:セミナー
ATTACH;FMTTYPE=image/png:https://archive2019nt.cross.or.jp/wp/wp-content/uploads/2018/01/noimg.png
END:VEVENT
END:VCALENDAR