BEGIN:VCALENDAR
VERSION:2.0
PRODID:-//CROSS 中性子科学センター（2019年アーカイブ） - ECPv5.14.1//NONSGML v1.0//EN
CALSCALE:GREGORIAN
METHOD:PUBLISH
X-WR-CALNAME:CROSS 中性子科学センター（2019年アーカイブ）
X-ORIGINAL-URL:https://archive2019nt.cross.or.jp
X-WR-CALDESC:CROSS 中性子科学センター（2019年アーカイブ） のイベント
BEGIN:VTIMEZONE
TZID:Asia/Tokyo
BEGIN:STANDARD
TZOFFSETFROM:+0900
TZOFFSETTO:+0900
TZNAME:JST
DTSTART:20160101T000000
END:STANDARD
END:VTIMEZONE
BEGIN:VEVENT
DTSTART;TZID=Asia/Tokyo:20160907T130000
DTEND;TZID=Asia/Tokyo:20160908T170000
DTSTAMP:20260426T034121
CREATED:20180125T221240Z
LAST-MODIFIED:20180125T221250Z
UID:3771-1473253200-1473354000@archive2019nt.cross.or.jp
SUMMARY:第13回 SPring-8産業利用報告会
DESCRIPTION:第13回 SPring-8産業利用報告会\n\n\n          ポスター（PDF 1.5MB）\n        （公財）高輝度光科学研究センター（JASRI）は、産業振興への貢献を大切な使命と考え、SPring-8 共用ビームラインを用いて、産業界ユーザーに積極的な支援を行っております。また、幾つかの専用ビームラインでも、広範な産業利用が行われています。\n今年も、SPring-8 を用いた産業利用成果発表を通じて、産業界における放射光の有効性を多くの方に知っていただくとともに、産業界ユーザーの相互交流を目的とする、産業利用報告会を9月7日・8日に兵庫県民会館で行います。\n本報告会は、産業用専用ビームライン建設利用共同体（サンビーム）、兵庫県、豊田中央研究所、JASRIそれぞれの発表会（報告会）をジョイントして構成したもので、口頭発表・ポスター発表および技術交流会を行ないます。\nSPring-8における最新の産業利用の状況、研究成果を知る絶好の機会です。奮ってご参加ください。\n開催日時\n2016年9月7日（水）13：00～8日（木）17：00 \n会場\n兵庫県民会館\n      〒650-0011神戸市中央区下山手通4丁目16-3\n      http://www.hyogo-arts.or.jp/arts/kenminmap.htm\n       \n参加申込み\n参加費無料。定員250名。事前に申し込みが必要です。 \n参加申込、プログラム、技術交流会など詳細は下記webページをご覧ください。\n      http://www.spring8.or.jp/ja/science/meetings/2016/160907/\n主催\n（公財）高輝度光科学研究センター（JASRI）\n産業用専用ビームライン建設利用共同体（サンビーム）\n兵庫県\n（株）豊田中央研究所（豊田中研）\nSPring-8利用推進協議会（推進協）  \n協賛\nフロンティアソフトマター開発専用ビームライン産学連合体（FSBL）\nSPRUC 企業利用研究会\n光ビームプラットフォーム\n（一財）総合科学研究機構 中性子科学センター（CROSS 東海）\n（一財）高度情報科学技術研究機構（RIST）\n茨城県  \n問合せ先\nSPring-8産業利用報告会事務局 （公財）高輝度光科学研究センター 利用推進部 普及啓発課\n                      TEL:0791-58-2785\n                      FAX:0791-58-2786\n                      Email:industry@spring8.or.jp
URL:https://archive2019nt.cross.or.jp/events/v16019/
LOCATION:兵庫県民会館\, 中央区下山手通4丁目16-3\, 神戸市\, 兵庫県\, 650-0011\, Japan
CATEGORIES:報告会
ATTACH;FMTTYPE=image/png:https://archive2019nt.cross.or.jp/wp/wp-content/uploads/2018/01/noimg.png
END:VEVENT
END:VCALENDAR