BEGIN:VCALENDAR
VERSION:2.0
PRODID:-//CROSS 中性子科学センター（2019年アーカイブ） - ECPv5.14.1//NONSGML v1.0//EN
CALSCALE:GREGORIAN
METHOD:PUBLISH
X-WR-CALNAME:CROSS 中性子科学センター（2019年アーカイブ）
X-ORIGINAL-URL:https://archive2019nt.cross.or.jp
X-WR-CALDESC:CROSS 中性子科学センター（2019年アーカイブ） のイベント
BEGIN:VTIMEZONE
TZID:Asia/Tokyo
BEGIN:STANDARD
TZOFFSETFROM:+0900
TZOFFSETTO:+0900
TZNAME:JST
DTSTART:20160101T000000
END:STANDARD
END:VTIMEZONE
BEGIN:VEVENT
DTSTART;TZID=Asia/Tokyo:20161117T100000
DTEND;TZID=Asia/Tokyo:20161117T170500
DTSTAMP:20260426T035047
CREATED:20180125T215418Z
LAST-MODIFIED:20180125T215430Z
UID:3761-1479376800-1479402300@archive2019nt.cross.or.jp
SUMMARY:平成28年度ソフトマター中性子散乱研究会
DESCRIPTION:平成28年度ソフトマター中性子散乱研究会\nテーマ「散乱法と観察法におけるコントラスト変調技術の最前線」\n\nはじめにJ-PARC MLFでの中性子散乱を使ったソフトマターに関する成果の概要について施設側からご報告した後、小角散乱のチュートリアルを竹中先生にお願いします。午後は散乱法と直接観察法におけるコントラスト変調技術・関係技術の最先端の話題を各講師の先生方からご紹介いただきます。中性子散乱法からは茨城大学 小泉先生、能田先生、さらにNMR技術の最前線を日産アーク 岩井先生にご紹介いただきます。観察法からは東京工業大学 中島先生、産業技術総合研究所 小川先生、日本原子力研究開発機構 青木先生から話題提供をいただき、多成分系試料の観察に有効なコントラスト変調の最先端手法を概観します。\n開催日時\n2016年11月17日（木）10:00-17:05 \n会場\nエッサム神田ホール401会議室\n      〒101-0045　東京都千代田区神田鍛冶町 3-2-2\n      TEL: 03-3254-8787\n        http://www.essam.co.jp/hall/access/#access_1\n       \n参加費\nただし、資料代として5\,000 円いただきます。なお、中性子産業利用推進協議会の会員の皆様と大学、研究機関の方は無料です。それ以外の方は事務局までご相談ください。資料代は当日徴収させていただきます。 \n※ 協議会の会員企業・団体については下記URLをご参照ください。\n      http://www.j-neutron.com/participation/ \n参加申込み\n参加を希望される方は、\n(1) 名前\n(2)所属\n(3)連絡先（電話番号、E-mail address）\n(4)交流会への参加の有無（領収書を発行します）\nをご記入の上、下記までメールにてお申し込みください。 \n申込み先：中性子産業利用推進協議会 事務局  大内 薫\nE-mail: info@j-neutron.com \nプログラム\n\n\n10:00\n開会挨拶\n研究会主査 竹中幹人（京都大学）\n\n\n10:05-10:30\nJ-PARC MLFの概要と中性子の産業利用\n林 眞琴（CROSS）\n\n\n10:30-11:00\nJ-PARC MLFにおけるソフトマター研究\n富永大輝（CROSS）\n\n\n11:00-11:50\n小角散乱チュートリアル\n竹中幹人（京都大学）\n\n\n11:50-12:50\n昼食\n\n\n＜散乱におけるコントラスト変調と最新技術＞\n\n\n12:50-13:30\n産業利用のための「小角散乱法と電子顕微鏡を併用した構造解析技術」の構築\n小泉 智　（茨城大学）\n\n\n13:30-14:10\n未定\n能田洋平（茨城大学）\n\n\n14:10-14:50\n同位体を用いたプロトン伝導性固体高分子膜のダイナミクス解析\n岩井良樹（日産アーク）\n\n\n14:50-15:00\n休　憩\n\n\n＜観察法におけるコントラスト変調と最新技術＞\n\n\n15:00-15:40\n産総研でのヘリウムイオン顕微鏡（HIM）応用技術の研究開発\n小川真一（産総研）\n\n\n15:40-16:20\nAFMナノメカニクスによるソフトマター研究\n中嶋 健（東京工業大学）\n\n\n16:20-17:00\n高分子材料の単一分子計測：ラベル法を用いた分子鎖の形態とダイナミクスの解析\n青木裕之（JAEA）\n\n\n17:00-17:05\n閉会挨拶＆お知らせ\n林眞琴（CROSS）\n\n\n交流会\n神田駅近くの「ワインホール 130」で交流会を開催します。参加費は2\,000円です。講演者と参加者のざっくばらんな意見の交換の場になりますので、是非ご参加ください。参加を希望される方は11月11日（金）までに登録してください。参加費は当日徴収させていただきます。なお、当日キャンセルされた場合には参加費をいただきます． \n会費：2\,000 円\n時間：17:30～19:30\n会場：ワインホール 130\n住所：東京都千代田区内神田 3-18-8  ナルミビル 4F\nTEL: 03-5295-2525 \n主催\n中性子産業利用推進協議会\n茨城県中性子利用促進研究会\n（一財）総合科学研究機構  中性子科学センター（CROSS東海） \n協賛\nJ-PARC/MLF利用者懇談会
URL:https://archive2019nt.cross.or.jp/events/v16024/
LOCATION:エッサム神田ホール 401会議室\, 神田鍛冶町3-2-2\, 千代田区\, 東京都\, 101-0045\, Japan
CATEGORIES:研究会
ATTACH;FMTTYPE=image/png:https://archive2019nt.cross.or.jp/wp/wp-content/uploads/2018/01/noimg.png
END:VEVENT
END:VCALENDAR