BEGIN:VCALENDAR
VERSION:2.0
PRODID:-//CROSS 中性子科学センター（2019年アーカイブ） - ECPv5.14.1//NONSGML v1.0//EN
CALSCALE:GREGORIAN
METHOD:PUBLISH
X-WR-CALNAME:CROSS 中性子科学センター（2019年アーカイブ）
X-ORIGINAL-URL:https://archive2019nt.cross.or.jp
X-WR-CALDESC:CROSS 中性子科学センター（2019年アーカイブ） のイベント
BEGIN:VTIMEZONE
TZID:Asia/Tokyo
BEGIN:STANDARD
TZOFFSETFROM:+0900
TZOFFSETTO:+0900
TZNAME:JST
DTSTART:20160101T000000
END:STANDARD
END:VTIMEZONE
BEGIN:VEVENT
DTSTART;VALUE=DATE:20161201
DTEND;VALUE=DATE:20161203
DTSTAMP:20260426T035043
CREATED:20180125T214654Z
LAST-MODIFIED:20180125T214706Z
UID:3754-1480550400-1480723199@archive2019nt.cross.or.jp
SUMMARY:日本中性子科学会第16回年会
DESCRIPTION:日本中性子科学会第16回年会\n開催日時\n2016年12月1日（木）～12月2日（金） \n会場\n名古屋大学　豊田講堂\n        http://www.jsns.net/jp/html/nenkai/2016/access.html \n主催\n日本中性子科学会 \n共催\n京都大学原子炉実験所\n東京大学物性研究所\n高エネルギー加速器研究機構物質構造科学研究所\nJ-PARC 物質・生命科学実験施設\n日本原子力研究開発機構 原子力科学研究部門 物質科学研究センター\n一般財団法人 総合科学研究機構 中性子科学センター \n協賛\n日本放射光学会\n一般社団法人　日本鉄鋼協会\n日本加速器学会\n中性子産業利用推進協議会  \n  \n詳細は 日本中性子科学会第16回年会 のホームページ をご覧ください。
URL:https://archive2019nt.cross.or.jp/events/v16027/
LOCATION:名古屋大学　豊田講堂\, 千種区不老町\, 名古屋市\, 愛知県\, 464-8601\, Japan
CATEGORIES:年会
ATTACH;FMTTYPE=image/png:https://archive2019nt.cross.or.jp/wp/wp-content/uploads/2018/01/noimg.png
END:VEVENT
END:VCALENDAR