BEGIN:VCALENDAR
VERSION:2.0
PRODID:-//CROSS 中性子科学センター（2019年アーカイブ） - ECPv5.14.1//NONSGML v1.0//EN
CALSCALE:GREGORIAN
METHOD:PUBLISH
X-WR-CALNAME:CROSS 中性子科学センター（2019年アーカイブ）
X-ORIGINAL-URL:https://archive2019nt.cross.or.jp
X-WR-CALDESC:CROSS 中性子科学センター（2019年アーカイブ） のイベント
BEGIN:VTIMEZONE
TZID:Asia/Tokyo
BEGIN:STANDARD
TZOFFSETFROM:+0900
TZOFFSETTO:+0900
TZNAME:JST
DTSTART:20170101T000000
END:STANDARD
END:VTIMEZONE
BEGIN:VEVENT
DTSTART;TZID=Asia/Tokyo:20170110T130000
DTEND;TZID=Asia/Tokyo:20170110T173000
DTSTAMP:20260426T035107
CREATED:20180123T224503Z
LAST-MODIFIED:20180123T224503Z
UID:3423-1484053200-1484069400@archive2019nt.cross.or.jp
SUMMARY:第1回大型実験施設とスーパーコンピュータとの連携利用勉強会
DESCRIPTION:第1回大型実験施設とスーパーコンピュータとの連携利用勉強会\nテーマ「ThCr2Si2型結晶構造における強相関電子物性と格子物性の関わり～鉄系超伝導体を中心に～」\n\n第1回大型実験施設とスーパーコンピュータとの連携利用勉強会の開催についてお知らせします。\n本勉強会は、京コンピュータや放射光・中性子の大型実験施設を利用した研究のニーズや課題を議論し、個々の研究活動や連携利用の促進を目的としています。\n今回は、鉄系超伝導体をテーマに取り上げ、この物質が持つThCr2Si2型結晶構造と物性を中心に議論したいと考えております。\n皆様のご参加をぜひともよろしくお願い致します。 \n\n\n\n開催日時\n平成29年1月10日（火）13：00～17：30（受付開始12:30）\n\n\n会場\n一般財団法人 高度情報科学技術研究機構（RIST）神戸センター キメックセンタービル6階\n        〒650-0047 神戸市中央区港島南町1-5-2\n        http://www.om-kobe.co.jp/office_kimec.html\n        \n\n\n定員\n約30名（原則として定員に達し次第、締め切りとさせていただきます）\n\n\n参加費\n無料\n\n\n参加申込み\n参加を希望される方は、メールにて「勉強会に参加希望」とご連絡ください。\n        E-mail: n-seminar[at]cross.or.jp（[at]を@に変更してください）（担当：水沢）\n\n\n申込締切\n1月6日（金）\n\n\n交流会\n終了後18：30頃から交流会（三宮）を予定（参加費は別）。こちらもご参加ください。\n\n\n主催\n公益財団法人 高輝度光科学研究センター（JASRI）\n        一般財団法人 総合科学研究機構（CROSS）\n        一般財団法人 高度情報科学技術研究機構（RIST）\n\n\n共催\nポスト「京」重点課題７（CDMSI）\n        元素戦略プロジェクト＜研究拠点形成型＞\n\n\n\nプログラム\n\n\n座長　水牧仁一朗（JASRI）\n\n\n13:00－13:40\nX線非弾性散乱によるThCr2Si2型構造に宿る電子・フォノン物性：鉄系超伝導から強相関f電子系へ\n筒井 智嗣\n（JASRI）\n\n\n座長　水牧仁一朗（JASRI）\n\n\n13:40－14:20\n中性子散乱による鉄系超伝導体の研究\n李 哲虎\n（産総研）\n\n\n14:20－14:50\n休憩\n\n\n座長　加倉井和久（CROSS）\n\n\n14:50－15:30\n強相関電子系の励起スペクトルー理論解析と実験データの直接比較を目指して\n山地 洋平（東大物工）\n\n\n15:30－16:00\n休憩\n\n\n座長　加倉井和久（CROSS）\n\n\n16:00－17:30\n総合討論
URL:https://archive2019nt.cross.or.jp/events/v17001/
LOCATION:一般財団法人 高度情報科学技術研究機構（RIST）神戸センター キメックセンタービル6階\, 中央区港島南町1-5-2\, 神戸市\, 兵庫県\, 650-0047\, Japan
CATEGORIES:研究会
END:VEVENT
END:VCALENDAR