BEGIN:VCALENDAR
VERSION:2.0
PRODID:-//CROSS 中性子科学センター（2019年アーカイブ） - ECPv5.14.1//NONSGML v1.0//EN
CALSCALE:GREGORIAN
METHOD:PUBLISH
X-WR-CALNAME:CROSS 中性子科学センター（2019年アーカイブ）
X-ORIGINAL-URL:https://archive2019nt.cross.or.jp
X-WR-CALDESC:CROSS 中性子科学センター（2019年アーカイブ） のイベント
BEGIN:VTIMEZONE
TZID:Asia/Tokyo
BEGIN:STANDARD
TZOFFSETFROM:+0900
TZOFFSETTO:+0900
TZNAME:JST
DTSTART:20170101T000000
END:STANDARD
END:VTIMEZONE
BEGIN:VEVENT
DTSTART;TZID=Asia/Tokyo:20170215T100000
DTEND;TZID=Asia/Tokyo:20170215T165000
DTSTAMP:20260426T034927
CREATED:20180123T074001Z
LAST-MODIFIED:20180208T170740Z
UID:3375-1487152800-1487177400@archive2019nt.cross.or.jp
SUMMARY:平成28年度非破壊検査・可視化・分析技術研究会
DESCRIPTION:平成28年度非破壊検査・可視化・分析技術研究会\nテーマ「国内外施設における中性子可視化・分析技術の状況とブラッグエッジイメージング研究の現状\n– 施設の相補利用による効率的な研究開発とブラッグエッジ法の活用に向けて -」\n\nJ-PARCならびに最近の国内外の中性子実験施設において進められている中性子ビームを利用した可視化・分析技術の開発と最近の利用状況を紹介するとともに、最近注目されている中性子イメージング手法であるブラッグエッジ法について、その概要と応用研究例を紹介する。さらに、最近の中性子イメージングの産業応用研究例を紹介し、イメージング技術への理解を深め、施設の相補利用による研究開発の効率化 を促進することを目的とする。 \n\n\n\n開催日時\n2017年2月15日（火）10:00-16:50\n\n\n会場\nエッサム神田ホール 1号館 2F 多目的ホール\n      〒101-0045　東京都千代田区神田鍛冶町 3-2-2\n      TEL: 03-3254-8787\n        http://www.essam.co.jp/hall/access/#access_1\n      \n\n\n参加費\nただし、資料代として 5\,000円いただきます。なお、中性子産業利用推進協議会の会員の皆様と大学、研究機関の方は無料です。それ以外の方は事務局までご相談ください。資料代は当日徴収させていただきます。※ 協議会の会員企業・団体については下記URLをご参照ください。\n      http://www.j-neutron.com/participation/\n\n\n参加申込み\n参加を希望される方は、\n        (1)名前\n        (2)所属\n        (3)連絡先（電話番号、E-mail address）\n        (4)交流会への参加の有無（領収書を発行します）\n        をご記入の上、メールにてお申込みください。\n\n\n申込み先\n中性子産業利用推進協議会 事務局  大内 薫\nE-mail: info@j-neutron.com\n\n\n交流会\n神田駅近くの「ワインホール 130」で交流会を開催します。参加費は 2\,000 円です。講演者と参加者のざっくばらんな意見の交換の場になりますので、是非ご参加ください。参加を希望される方は 2 月 10 日（金）までに登録してください。参加費は当日徴収させていただきます。なお、当日キャンセルされた場合には参加費をいただきます。\n会費：2\,000 円\n時間：17:20～19:20\n会場：ワインホール 130\n住所：東京都千代田区内神田3-18-8 ナルミビル 4F\nTEL: 03-5295-2525\n\n\n\n主催\n中性子産業利用推進協議会\n    茨城県中性子利用促進研究会\n    （一財）総合科学研究機構中性子科学センター（CROSS 東海）\n    J-PARC/MLF 利用者懇談会\n\n\n\nプログラム\n\n\n10:00-10:05\n開会挨拶\n研究会主査　海老原 充（首都大学東京）\n\n\n＜施設の概況＞\n\n\n10:05-10:30\nJ-PARC MLFと産業利用の現状\n富田俊郎（茨城県）\n\n\n＜チュートリアル＞\n\n\n10:30-11:00\nANNRIの現状と即発ガンマ線分析\n藤 暢輔（JAEA）\n\n\n11:00-11:30\nJ-PARC のイメージング装置 RADEN の現状\n松本吉弘（CROSS）\n\n\n＜実験施設の現状＞\n\n\n11:30-12:00\n理研 RANS1 による非破壊観察評価の現状\n大竹淑恵（理研）\n\n\n12:00～13:00\n昼 食\n\n\n13:00-13:30\nKURにおける放射化分析\n高宮幸一（京大炉）\n\n\n13:30-14:00\n海外施設における中性子イメージングの現状\n甲斐哲也（J-PARC）\n\n\n14:00-14:30\n海外施設における放射化分析\n海老原充（首都大学東京）\n\n\n＜ブラッグエッジイメージングの最新研究＞\n\n\n14:30-15:00\nブラッグエッジ研究の概要\n篠原武尚（J-PARC）\n\n\n15:00～15:10\n休 憩\n\n\n15:10-15:40\nブラッグエッジ法による Pb-Bi 合金の凝固過程の観察\n伊藤大介（京大炉）\n\n\n15:40-16:10\n透過スペクトル解析による結晶組織構造情報の定量的可視化\n佐藤博隆（北大）\n\n\n＜中性子イメージングの産業利用＞\n\n\n16:10-16:40\n中性子線を用いた熱交換器内二相流の可視化\n岡村 徹（デンソー）\n\n\n16:40-16:50\n閉会挨拶＆お知らせ\n峯村哲郎（茨城県）
URL:https://archive2019nt.cross.or.jp/events/v17004/
LOCATION:エッサム神田ホール 1号館 2F 多目的ホール\, 神田鍛冶町3-2-2\, 千代田区\, 東京都\, 101-0045\, Japan
CATEGORIES:研究会
ATTACH;FMTTYPE=image/png:https://archive2019nt.cross.or.jp/wp/wp-content/uploads/2018/01/noimg.png
ORGANIZER;CN="%E4%B8%AD%E6%80%A7%E5%AD%90%E7%94%A3%E6%A5%AD%E5%88%A9%E7%94%A8%E6%8E%A8%E9%80%B2%E5%8D%94%E8%AD%B0%E4%BC%9A":MAILTO:info＠j-neutron.com
END:VEVENT
END:VCALENDAR