BEGIN:VCALENDAR
VERSION:2.0
PRODID:-//CROSS 中性子科学センター（2019年アーカイブ） - ECPv5.14.1//NONSGML v1.0//EN
CALSCALE:GREGORIAN
METHOD:PUBLISH
X-WR-CALNAME:CROSS 中性子科学センター（2019年アーカイブ）
X-ORIGINAL-URL:https://archive2019nt.cross.or.jp
X-WR-CALDESC:CROSS 中性子科学センター（2019年アーカイブ） のイベント
BEGIN:VTIMEZONE
TZID:Asia/Tokyo
BEGIN:STANDARD
TZOFFSETFROM:+0900
TZOFFSETTO:+0900
TZNAME:JST
DTSTART:20170101T000000
END:STANDARD
END:VTIMEZONE
BEGIN:VEVENT
DTSTART;VALUE=DATE:20170227
DTEND;VALUE=DATE:20170301
DTSTAMP:20260426T034756
CREATED:20180123T055311Z
LAST-MODIFIED:20180123T225449Z
UID:3305-1488153600-1488326399@archive2019nt.cross.or.jp
SUMMARY:平成28年度初心者向けZ-Code講習会
DESCRIPTION:平成28年度初心者向けZ-Code講習会\nJ-PARCセンターMLFディビジョンほかでは、平成28年度の粉末構造解析ソフトウエアZ-Codeの初心者向け講習会を開催します.Z-RietveldとZ-3D、Z-MEMの最新版の使い方について講義と実習を行います。J-PARC MLFの粉末構造回折装置を利用される多くの皆様には是非ご参加いただき、これらの解析ツールを構造解析に活用していただきますようご案内致します。なお、今回はWindows版だけの実習を行いますので、Windows PCをご持参ください。Windows OSはWindows 7です。 \n\n\n\n目的\nTOF粉末中性子回折データだけでなく、X線を含む他の回折データのリートベルト解析やＸ線と中性子データの同時リートベルト解析を一人で実行できるようにする。また、制約条件下でのリートベルト解析ができるようにし、構造パラメータやプロファイルパラメータ、補正パラメータ等を理解し、原子間距離や角度などを正しく求め、論文や報告書を執筆するための表記法を理解する。さらに、MEM解析を行い、結果を表示できるようにする。結晶模型を描けるようにし、簡単な磁気構造も解析できるようにする。\n\n\n開催日時\n平成29年2月27（月）9:30～28日（火）17:00\n\n\n会場\nLMJ東京研修センター\n〒113-0033　東京都文京区本郷1-11-14　小倉ビル 5F特大会議室\n水道橋駅からのアクセスは下記を参照ください。\nhttp://www.lmj-japan.co.jp/kaigishitu/02-1/suidobashi.html\n\n\n参加費\n無料資料代として2\,000円いただきます。なお、中性子産業利用推進協議会の会員の皆様は無料です。資料代は当日徴収させていただきます。領収書を発行します。\n\n\n参加申込み\n2月20日（月）まで。参加を希望される方は、\n(1) 名前\n(2)所属\n(3)連絡先（電話番号、E-mail address）\nをご記入の上、下記までメールにてお申し込みください。\n\n\n申込み先\n\n中性子産業利用推進協議会 事務局  大内 薫E-mail: info@j-neutron.com\n\n\n問合せ先\n\nご不明な点は下記までお問合せください。\n総合科学研究機構（CROSS）中性子科学センター\n林 眞琴\nE-mail: m_hayashi[at]cross.or.jp（[at]を@に置き換えてください）\n\n\n主催\n\nJ-PARCセンターMLFディビジョン\nKEK物質構造科学研究所\n茨城県\n茨城大学フロンティア応用原子科学研究センター\n中性子産業利用推進協議会\n(一財)総合科学研究機構（CROSS）\n\n\n共催\n\n‘TIA-かけはし’\n※’TIA-かけはし’については下記のURLをご参照ください。\nhttps://www.tia-nano.jp/kakehashi/\n\n\n\nプログラム\n2月27日（月）13:00-17:00\n\n\n9:30-9:35\n開会挨拶\n林眞琴（CROSS）\n\n\n9:35-9:45\nJ-PARC MLFの現状\n神山 崇（KEK）\n\n\n9:45-10:25\n回折結晶学の基礎Ⅰ\n木村宏之（東北大学）\n\n\n10:25-10:45\nTOF型粉末回折の概要\n石垣 徹（茨城大学）\n\n\n10:45-11:00\nZ-Rietveldを用いたリートベルト解析の概要\n神山 崇（KEK）\n\n\n11:00-11:10\nZ-Rietveldのインストールと動作確認\n米村雅雄、石川喜久（KEK）\n\n\n11:10-12:10\nZ-RietveldとZ-3Dを使った結晶構造解析1\n米村雅雄（KEK）\n\n\n12:10-13:25\n昼 食\n\n\n13:25-13:35\nZ-Rietveldで用いている関数\n神山 崇（KEK）\n\n\n13:35-15:35\nZ-RietveldとZ-3Dを使った結晶構造解析2\n米村雅雄（KEK）\n\n\n15:35-16:05\n回折結晶学の基礎Ⅱ\n木村宏之（東北大学）\n\n\n16:05-17:00\nZ-RietveldとZ-3Dを使った結晶構造解析3\n神山 崇（KEK）\n\n\n17:00\n終了\n\n\n2月28日（火）9:30-17:00\n\n\n9:30-10:00\nZ-RietveldとZ-3Dを使った結晶構造解析3（続き）\n神山 崇（KEK）\n\n\n10:00-11:50\nZ-RietveldとZ-3Dを使った結晶構造解析4\n米村雅雄（KEK）\n\n\n11:50-13:00\n昼　食\n\n\n13:00-15:00\nZ-RietveldとZ-MEM実習\n石川喜久（KEK）\n\n\n15:00-15:15\n休憩\n\n\n15:15-17:00\nZ-RietveldとZ-3Dを使った結晶構造解析5\n米村雅雄（KEK）\n\n\n17:00\n閉会挨拶\n富田俊郎（茨城県）
URL:https://archive2019nt.cross.or.jp/events/v17006/
LOCATION:LMJ東京研修センター\, 本郷1-11-14\, 文京区\, 東京都\, 113-0033\, Japan
CATEGORIES:講習会
END:VEVENT
END:VCALENDAR