BEGIN:VCALENDAR
VERSION:2.0
PRODID:-//CROSS 中性子科学センター（2019年アーカイブ） - ECPv5.14.1//NONSGML v1.0//EN
CALSCALE:GREGORIAN
METHOD:PUBLISH
X-WR-CALNAME:CROSS 中性子科学センター（2019年アーカイブ）
X-ORIGINAL-URL:https://archive2019nt.cross.or.jp
X-WR-CALDESC:CROSS 中性子科学センター（2019年アーカイブ） のイベント
BEGIN:VTIMEZONE
TZID:Asia/Tokyo
BEGIN:STANDARD
TZOFFSETFROM:+0900
TZOFFSETTO:+0900
TZNAME:JST
DTSTART:20160101T000000
END:STANDARD
END:VTIMEZONE
BEGIN:VEVENT
DTSTART;VALUE=DATE:20160314
DTEND;VALUE=DATE:20160316
DTSTAMP:20260426T034751
CREATED:20180123T035456Z
LAST-MODIFIED:20210304T091709Z
UID:3300-1457913600-1458086399@archive2019nt.cross.or.jp
SUMMARY:2016年度量子ビームサイエンスフェスタ（第8回MLFシンポジウム／第34回PFシンポジウム）
DESCRIPTION:概要\nKEK放射光科学研究施設、低速陽電子実験施設とJ-PARC物質・生命科学実験施設（MLF）はともに茨城県内にあり、直線距離にして60km弱と比較的近くに位置しています。それぞれの施設ではその「地の利」を生かし、放射光、陽電子、中性子、ミュオンを、それぞれの特徴を生かした形でより密接に連携させて新しいサイエンスを展開することを目指しています。 \n物構研とMLFによる今年度の「量子ビームサイエンスフェスタ」は、2017年3月14日（火）～15日（水）の日程で開催されることになりました。量子ビームサイエンスフェスタは、単に各施設におけるスタッフとユーザーの成果発表の場であるだけでなく、異なるプローブを用いる研究者間の交流の場です。すなわち、各々のプローブの専門家が互いに連携するためのサロンであり、美しい協奏的研究の成果を披露する舞台であり、競争し刺激を与え合う土俵でもあります。 \n開催概要は下記のとおりです。詳細が決まり次第、ホームページ等により皆様にお知らせいたします。是非多くの方々にご参加いただき、それぞれに新しい量子ビーム科学研究の種を持ち帰っていただければ幸いです。 \n開催概要\n\n\n\n開催日時\n2016年3月14日（火）～15日（水）\n\n\n会場\nつくば国際会議場（エポカルつくば）\n茨城県つくば市竹園2-20-3\n\n\n詳細\n参加費、参加申し込み、プログラムなど詳細は公式HPを御覧ください\n    http://qbs-festa.kek.jp/2016/\n\n\n問合せ先\nE-mail: qbs-festa-office@pfiqst.kek.jp\n\n\n2016年度量子ビームサイエンスフェスタ実行委員\n安達成彦（KEK-PF）、飯田一樹（CROSS）、池田一貴（KEK-中性子）、伊藤崇芳（CROSS）、大井元貴（JAEA）、大原高志（MLF利用者懇談会／JAEA）、神山崇（KEK-中性子）、幸田章宏（KEK-ミュオン）、佐野亜沙美（JAEA）、清水敏之（PF-UA／東大）、杉山弘（KEK-PF）、高木宏之（KEK-加速器）、富永大輝（CROSS）、丹羽尉博（KEK-PF）、平野馨一（KEK-PF）、◎堀場弘司（KEK-PF）、○丸山龍治（JAEA）、若林大佑（KEK-PF）（◎委員長、○副委員長、50音順、敬称略）\n\n\n主　催\nKEK物質構造科学研究所\nJ-PARCセンター\n総合科学研究機構（CROSS）\nＰＦ-ユーザアソシエーション（PF-UA）\nMLF利用者懇談会\n\n\n後　援\n茨城県、東海村\n\n\n協　賛\n応用物理学会、高分子学会、中性子産業利用推進協議会、日本化学会、日本加速器学会、日本機械学会、日本金属学会、日本結晶学会、日本原子力学会（予定）、日本高圧力学会、日本材料学会、日本磁気学会、日本地球惑星科学連合（予定）、日本中間子科学会、日本中性子科学会、日本鉄鋼協会、日本表面科学会、日本物理学会、日本放射化学会、日本放射光学会、日本陽電子科学会
URL:https://archive2019nt.cross.or.jp/events/v17007/
LOCATION:つくば国際会議場（エポカルつくば）\, 竹園2-20-3\, つくば市\, 茨城県\, 305-0032\, Japan
CATEGORIES:イベント
ATTACH;FMTTYPE=image/png:https://archive2019nt.cross.or.jp/wp/wp-content/uploads/2018/01/noimg.png
END:VEVENT
END:VCALENDAR