BEGIN:VCALENDAR
VERSION:2.0
PRODID:-//CROSS 中性子科学センター（2019年アーカイブ） - ECPv5.14.1//NONSGML v1.0//EN
CALSCALE:GREGORIAN
METHOD:PUBLISH
X-WR-CALNAME:CROSS 中性子科学センター（2019年アーカイブ）
X-ORIGINAL-URL:https://archive2019nt.cross.or.jp
X-WR-CALDESC:CROSS 中性子科学センター（2019年アーカイブ） のイベント
BEGIN:VTIMEZONE
TZID:Asia/Tokyo
BEGIN:STANDARD
TZOFFSETFROM:+0900
TZOFFSETTO:+0900
TZNAME:JST
DTSTART:20170101T000000
END:STANDARD
END:VTIMEZONE
BEGIN:VEVENT
DTSTART;TZID=Asia/Tokyo:20170213T130000
DTEND;TZID=Asia/Tokyo:20170213T180000
DTSTAMP:20260426T034914
CREATED:20170213T034411Z
LAST-MODIFIED:20180606T074647Z
UID:3296-1486990800-1487008800@archive2019nt.cross.or.jp
SUMMARY:Workshop: CROSSroads of Users and J-PARC 第19回「中性子とミュオンによる界面研究」
DESCRIPTION:開催日時\n平成29年2月13日（月） 13:00 – 18:00\n\n\n会場\nいばらき量子ビーム研究センター B101会議室〒319-1106 茨城県那珂郡東海村白方162-1\n\n\n参加費\n無料\n\n\n申込\n以下のフォームからお申し込みください。参加登録は開催当日まで可能です。\n            \n\n\nworkshopの目的\n総合科学研究機構中性子科学センター（CROSS東海）では、大強度陽子加速器施設（J-PARC）の物質・生命科学実験施設（MLF）に設置された7つの共用ビームラインについて、その利用促進業務を行っています。その一環として2011年より開始しました「CROSSroads of Users and J-PARC」シリーズは、\n(1) J-PARCビームラインの開発及び研究利用に関するユーザーの皆様への情報提供\n(2) 利用者サイドからの具体的な要望や提案の受付\n(3) インパクトの強い成果を生み出す活発な議論、および具体的成果の発表\nを主目的にしています。\n\n\nWorkshop: CROSSroads of Users and J-PARC 第19回「中性子とミュオンによる界面研究」\nJ-PARC MLFでは、加速器からのパルス陽子ビームにより生成される世界最高強度の中性子及びミュオンビームを用いて、物質科学・生命科学研究が推進されています。今回のCROSSroads Workshopでは、MLFで利用される中性子及びミュオンから解き明かされる界面の物理について、電池材料及び機能性材料を専門とされる講師の先生方にご講演頂きます。研究会では、中性子及びミュオンそれぞれの実験の特徴を活かした測定について紹介していただくほか、超低速ミュオンと中性子反射率測定による新たな可能性を拓く議論の場を提供できればと考えております。\n\n\n講演者\n杉山純（豊田中研）、増井友美（住友ゴム）、朝岡秀人（原子力機構）、武田全康（原子力機構)、竹下聡史（KEK）、山田悟史（KEK）、花島隆泰（CROSS）、反保元伸（KEK物構研）\n\n\n宿泊\nJ-PARCのユーザー用宿泊施設（東海ドミトリー）をご利用いただけます。費用は一泊2\,500円です。\nご利用の際はJ-PARCユーザー登録が必要になります。\nドミトリー宿泊手続きはこちらをご覧ください。\n※ 部屋数に限りがありますので、ご希望に添えない場合もございます。\n\n\nWorkshop世話人\n加倉井和久（代表）、福嶋喜章、大石一城、河村聖子、幸田章宏、伊藤孝\n\n\n問い合わせ先\n一般財団法人 総合科学研究機構 中性子科学センター\nWorkshop事務局Email : workshop19[at]cross.or.jp（[at]を@に置き換えてください）\n\n\n主催\n一般財団法人 総合科学研究機構 中性子科学センター （CROSS東海）（J-PARC特定中性子線施設・登録施設利用促進機関）\n\n\n共催\nJ-PARCセンター（JAEA＆KEK）\n先端基礎研究センター（JAEA）\n物質科学研究センター（JAEA）\n\n\n協賛\n日本中性子科学会 、中性子産業利用協議会、日本中間子科学会\n\n\n\nプログラム\n\n\n12:30\n開場\n\n\n\n13:00-13:40\n低速ミュオンとβ―NMR で視る薄膜中の Li 拡散\n杉山純（豊田中研）\n\n\n13:40-14:20\n負ミュオンを用いた元素分析（仮）\n反保元伸（KEK 物構研）\n\n\n14:20-14:45\nミュオンスピン緩和法で探る高分子のダイナミクス\n竹下聡史（KEK 物構研）\n\n\n14:45-15:10\n中性子反射率計 SOFIA の紹介\n山田悟史（KEK）\n\n\n15:10-15:40\n写真撮影・Coffee break\n\n\n\n15:40-16:05\nゴムの界面研究における中性子活用\n増井友美（住友ゴム）\n\n\n16:05-16:30\nJ-PARC/MLF BL17 偏極中性子反射率計（写楽）とその成果の紹介\n花島隆泰（CROSS）\n\n\n16:30-16:55\nヘテロエピタキシャル成長と埋もれた水素ヘテロ界面構造の研究\n朝岡秀人（原子力機構）\n\n\n16:55-17:20\n偏極中性子反射率法による機能性材料研究\n武田全康（原子力機構）\n\n\n17:20-18:00\nコメント及び議論\n\n\n\n18:30-\n懇親会\n\n\n\n懇親会\n\n\n日時\n平成29年2月13日（月）18：30～\n\n\n会場\n魚康 2階\n\n\n会費:\n一般：3\,000円\n        学生：1\,500円\n        ※飲み物代は当日各自でお支払いただきます。
URL:https://archive2019nt.cross.or.jp/events/v17008/
LOCATION:いばらき量子ビーム研究センター（IQBRC） B101大会議室\, 白方162-1\, 那珂郡東海村\, 茨城県\, 319-1106\, Japan
ATTACH;FMTTYPE=image/png:https://archive2019nt.cross.or.jp/wp/wp-content/uploads/2018/01/noimg.png
END:VEVENT
END:VCALENDAR