BEGIN:VCALENDAR
VERSION:2.0
PRODID:-//CROSS 中性子科学センター（2019年アーカイブ） - ECPv5.14.1//NONSGML v1.0//EN
CALSCALE:GREGORIAN
METHOD:PUBLISH
X-WR-CALNAME:CROSS 中性子科学センター（2019年アーカイブ）
X-ORIGINAL-URL:https://archive2019nt.cross.or.jp
X-WR-CALDESC:CROSS 中性子科学センター（2019年アーカイブ） のイベント
BEGIN:VTIMEZONE
TZID:Asia/Tokyo
BEGIN:STANDARD
TZOFFSETFROM:+0900
TZOFFSETTO:+0900
TZNAME:JST
DTSTART:20170101T000000
END:STANDARD
END:VTIMEZONE
BEGIN:VEVENT
DTSTART;TZID=Asia/Tokyo:20170308T100000
DTEND;TZID=Asia/Tokyo:20170308T170500
DTSTAMP:20260426T034118
CREATED:20180123T030400Z
LAST-MODIFIED:20180127T210054Z
UID:3289-1488967200-1488992700@archive2019nt.cross.or.jp
SUMMARY:平成28年度第2回残留ひずみ・応力解析研究会
DESCRIPTION:平成28年度第2回残留ひずみ・応力解析研究会（微細構造解析プラットフォーム第2回放射光利用研究セミナー）輸送機器における残留応力評価\n\n\n\n開催日時\n平成29年3月8日（水）10:00-17:05\n\n\n会場\n研究社英語センター大会議室\n〒162-0825　東京都新宿区神楽坂1-2\nTEL:03-3269-4331\nhttp://www.kenkyusha.co.jp/modules/11_meetingroom/index.php?content_id=1\n\n\n参加費\n無料ただし、資料代として5\,000円いただきます。なお、中性子産業利用推進協議会の会員企業の皆さまと大学、研究機関の方は無料です。それ以外の方は事務局までご相談ください。資料代は当日徴収させていただきます。\n\n\n参加申込・プログラム\n参加申し込み、プログラムなど詳細はこちらをご覧ください。\n\n\n主催\n中性子産業利用推進協議会\n茨城県中性子利用促進研究会\nSPring-8ユーザー協同体\nJAEA微細構造解析プラットフォーム\nQST微細構造解析プラットフォーム\nNIMS微細構造解析プラットフォーム\n\n\n協賛\n(一財)総合科学研究機構（CROSS）中性子科学センター\nJ-PARC/MLF利用者懇談会\n日本材料学会X線材料強度部門委員会
URL:https://archive2019nt.cross.or.jp/events/v17009/
LOCATION:研究社英語センター大会議室\, 神楽坂1-2\, 新宿区\, 東京都\, 162-0825\, Japan
CATEGORIES:研究会
ATTACH;FMTTYPE=image/png:https://archive2019nt.cross.or.jp/wp/wp-content/uploads/2018/01/noimg.png
END:VEVENT
END:VCALENDAR