BEGIN:VCALENDAR
VERSION:2.0
PRODID:-//CROSS 中性子科学センター（2019年アーカイブ） - ECPv5.14.1//NONSGML v1.0//EN
CALSCALE:GREGORIAN
METHOD:PUBLISH
X-WR-CALNAME:CROSS 中性子科学センター（2019年アーカイブ）
X-ORIGINAL-URL:https://archive2019nt.cross.or.jp
X-WR-CALDESC:CROSS 中性子科学センター（2019年アーカイブ） のイベント
BEGIN:VTIMEZONE
TZID:Asia/Tokyo
BEGIN:STANDARD
TZOFFSETFROM:+0900
TZOFFSETTO:+0900
TZNAME:JST
DTSTART:20170101T000000
END:STANDARD
END:VTIMEZONE
BEGIN:VEVENT
DTSTART;TZID=Asia/Tokyo:20171016T133000
DTEND;TZID=Asia/Tokyo:20171017T151500
DTSTAMP:20260426T034112
CREATED:20180802T020027Z
LAST-MODIFIED:20180802T020218Z
UID:9009-1508160600-1508253300@archive2019nt.cross.or.jp
SUMMARY:MLFチョッパーユーザーミーティング DIRECTION 2017
DESCRIPTION:チョッパー中性子分光器はパルス中性子源における代表的な非弾性散乱装置のひとつであり、J-PARC 物質・生命科学実験施設（MLF）においても4SEASONS（BL01）、HRC（BL12）、AMATERAS（BL14）が稼働中、また、POLANO（BL23）が今年度からコミッショニングを開始しています。 \n各装置からはそれぞれの特色を活かしたユニークな研究成果が生まれていますが、ユーザー利用のますますの活性化を目指し、MLFの4台のチョッパー分光器合同のユーザーミーティング「DIRECTION 2017」を開催することになりました。 \n本ミーティングでは各装置、試料環境、ソフトウェアの最新状況の紹介に加え、ユーザーの方々により行われた最近の実験およびデータ解析の例を装置の枠、研究分野の枠に囚われずに紹介いただくことにより、今後のユーザーの皆様の研究の一助となると共にユーザーコミュニティ内での情報交流の場を提供できればと考えております。 \n使用言語\n日本語 \n参加費\n無料 \n申込方法\nお申込みフォームに必要事項をご記入ください。10/12（木）締め切りとさせていただきます。 \n▶ お申込みフォーム \nプログラム（9月14日現在） \n10月16日（月）\n\n\n13:30-15:05\nセッション1\n\n\n15:05-15:25\n休憩\n\n\n15:25-16:35\nセッション2\n\n\n16:35-16:55\n休憩\n\n\n16:55-17:55\nセッション3\n\n\n19:00\n懇親会\n\n\n10月17日（月）\n\n09:30-10:50\nセッション4\n\n\n10:50-11:10\n休憩\n\n\n11:10-12:10\nセッション5\n\n\n12:10-13:40\n昼休み\n\n\n13:40-15:15\nセッション6\n\n\nプログラムの詳細はこちら \n宿泊\nJ-PARCのユーザー用宿泊施設（東海ドミトリー）をご利用いただけます。費用は一泊2\,500円です。\nご利用の際お申込みフォームでの宿泊希望のチェックとJ-PARCユーザー登録が必要になります。\n手続きはこちらをご覧ください。\n※ 部屋数に限りがありますので、ご希望に添えない場合もございます。お早めのお申し込みをお願いします。 \n世話人\n横尾哲也（代表）、梶本亮一（代表）、伊藤晋一、中島健次、中村充孝、河村聖子、蒲沢和也 \n問い合わせ先\n研究会事務局 \nEmail : DIRECTION2017[at]ml.j-parc.jp（[at]を@に置き換えてください） \n主催\n\nJ-PARC MLF\n大学共同利用機関法人高エネルギー加速器研究機構 物質構造科学研究所\n一般財団法人総合科学研究機構（CROSS）中性子科学センター
URL:https://archive2019nt.cross.or.jp/events/v17014/
LOCATION:AYA’S LABORATORY 量子ビーム研究センター（AQBRC） B201大会議室\, 白方162-1\, 那珂郡東海村\, 茨城県\, 319-1106
CATEGORIES:イベント
ATTACH;FMTTYPE=image/png:https://archive2019nt.cross.or.jp/wp/wp-content/uploads/2018/01/noimg.png
END:VEVENT
END:VCALENDAR