BEGIN:VCALENDAR
VERSION:2.0
PRODID:-//CROSS 中性子科学センター（2019年アーカイブ） - ECPv5.14.1//NONSGML v1.0//EN
CALSCALE:GREGORIAN
METHOD:PUBLISH
X-WR-CALNAME:CROSS 中性子科学センター（2019年アーカイブ）
X-ORIGINAL-URL:https://archive2019nt.cross.or.jp
X-WR-CALDESC:CROSS 中性子科学センター（2019年アーカイブ） のイベント
BEGIN:VTIMEZONE
TZID:Asia/Tokyo
BEGIN:STANDARD
TZOFFSETFROM:+0900
TZOFFSETTO:+0900
TZNAME:JST
DTSTART:20170101T000000
END:STANDARD
END:VTIMEZONE
BEGIN:VEVENT
DTSTART;VALUE=DATE:20171019
DTEND;VALUE=DATE:20171021
DTSTAMP:20260426T034113
CREATED:20170908T134618Z
LAST-MODIFIED:20190124T050641Z
UID:86-1508371200-1508543999@archive2019nt.cross.or.jp
SUMMARY:J-PARC WORKSHOP
DESCRIPTION:Deuterated Materials Enhancing Neutron Science for Structure Function Applications\n中性子はタンパク質，高分子，界面活性剤などの水素を含む有機分子の静的･動的な構造研究に有効な手段であり，日々新しい研究成果を創出しています。中でも，重水素化分子を用いたコントラスト変調法は構造研究の基幹となる技術であり，さらに特定の部位のみをラベル化する部分重水素化は分子の会合･拡散現象や界面構造を理解するのに重要な役割を果たしています。そのため，重水素ラベル化技術と構造解析法の連携による中性子構造研究の飛躍的な進展は，多方面から強く望まれています。 \n本ワークショップでは，重水素化研究について国際舞台の最前線で活躍しているAustralian Nuclear Science and Technology Organisation（ANSTO）のT. A. Darwish博士（Chemical Deuteration）及びA. Duff博士（Biological Deuteration）と，EU重水素化研究ネットワークの中心人物であるEuropean Spallation Source（ESS）のA. Leung博士（Chemical Deuteration）を迎え，日本の中性子科学研究者とともに最先端的･先駆的な研究成果について発表･討論を行うことで，新しい研究対象の模索とJ-PARCにおける重水素化研究発展のための戦略について集中的に議論します。 \n開催日時\n2017年10月19（木）～ 20日（金） \n会場\nいばらき量子ビーム研究センター B101会議室\n〒319-1106 茨城県那珂郡東海村白方162-1 \n参加費\n無料 \n申込方法\n申込は締め切りました。\nお申込みされていない方もワークショップへご参加いただけます。 \n \nプログラム\n10月19日（木）\n\n\n9:00-9:30\nReception\n\n\n9:30-9:40\nOpening\,\nT. Kanaya (KEK/J-PARC Center)\n\n\n9:40-10:00\nIntroduction of MLF deuteration facilities\nK. Akutsu (CROSS)\n\n\n10:00-10:20\nCoffee Break\n\n\nPlenary Session 1Chair：M. Adachi（QST）\n\n\n10:20-11:00\nChemical Deuteration at the Australian National Deuteration Facility\nT. A. Darwish (ANSTO)\n\n\n11:00-11:40\nBiological Deuteration at the Australian National Deuteration Facility\nA. Duff (ANSTO)\n\n\n11:40-12:40\nLunch Time\n\n\nPlenary Session 2Chair：K. Akutsu (CROSS)\n\n\n12:40-13:20\nActivities of the Chemical Deuteration Laboratory at ESS\, a node of the European Deuteration Network\nA. Leung (ESS)\n\n\n13:20-14:00\nDirect Deuterium Labeling Methods Based on C-H Activation Utilizing Hydrogen as a Catalyst Activator\nH. Sajiki (Gifu Pharmaceutical Univ.)\n\n\n14:00-14:20\nCoffee Break\n\n\nSession1: Deuteration Science for Chemistry_1T. Kanaya (KEK/J-PARC Center)\n\n\n14:20-14:50\nStructural Study on Solvation in Ionic Liquid-based Electrolyte Solutions\nK. Fujii (Yamaguchi Univ.)\n\n\n14:50-15:10\nStudy of Electrochemical Interface Structure Using Reflectivity Techniques\nK. Tamura (JAEA)\n\n\n15:10-15:40\nStudy of Addtives in Ordered-Bicontinuos-Double-Network Structures Revealed by SANS\nK. Yamamoto (Nagoya Inst. Tech.)\n\n\n15:40-17:10\nSite visit to J-PARC\n\n\n18:30-\nBanquet\, Hakkaku (八角)\n\n\n10月20日（金）\n\n\nSession2: Deuteration Science for Chemistry_2Chair：J. Suzuki（CROSS）\n\n\n9:00-9:30\nQuasielastic Neutron Scattering Studies of Ionic Liquids Utilizing Deuteration Technique\nM. Kofu (JAEA/J-PARC Center)\n\n\n9:30-10:00\nDeuteration in crystal chemistry\nT. Ohhara (JAEA/J-PARC Center)\n\n\n10:00-10:30\nPolymer Interfacial Structures Revealed by a Combination of Sample Labeling with Neutron Reflectometry\nN. Torikai (Mie Univ.)\n\n\n10:30-11:00\nCoffee Break and Group Photo\n\n\nSession3: Deuteration Science for Biology_1Chair：M. Kataoka（CROSS）\n\n\n11:00-11:30\nIsotope labeling strategies for the NMR study of large proteins using yeast expression systems\nH. Takahashi (Yokohama City Univ.)\n\n\n11:30-12:00\nPreparation of histones by chemical ligation methods for structural studies\nS. Machida (Waseda Univ.)\n\n\n12:00-13:00\nLunch Time\n\n\nSession4: Deuteration Science for Biology_2Chair：M. Sugiyama（Kyoto Univ.）\n\n\n13:00-13:30\nProtein deuteration using algal peptone for neutron scattering\nS. Fujiwara (QST)\n\n\n13:30-14:00\nPerdeuteration and protein neutron crystallography\nM. Adachi (QST)\n\n\n14:10-15:10\nFree Discussion\n\n\n15:10-15:20\nClosing\nT. Kanaya (KEK/J-PARC Center)\n\n\n15:30\nFree shuttle bus from IQBRC to Tokai station\n\n\n宿泊\n \nJ-PARCのユーザー用宿泊施設（東海ドミトリー）をご利用いただけます。費用は一泊2\,500円です。\nご利用の際はJ-PARCユーザー登録が必要になります。\nドミトリー宿泊手続きはこちらをご覧ください。\n※ 部屋数に限りがありますので、ご希望に添えない場合もございます。 \n昼食\n19日、20日のお昼はお弁当の予約を受け付けております。一食につき1000円となります。お弁当が必要な方は、お申込みフォームにて申請をお願いします。 \n懇親会\n\n\n日時: \n10月19日（木）18:30-21:00\n\n\n会場: \nやんしゅうばんや 八角\n\n\n会費:\n5\,000円\n\n\nいばらき量子ビーム研究センター ⇔ 八角を往復する無料送迎バスをご利用いただけます。 \n問い合わせ先\n阿久津 和宏\n総合科学研究機構中性子科学センター\n　茨城県東海村白方162-1いばらき量子ビーム研究センター A307\nTEL: 029-219-5310 Ext:3410\nE-mail: k_akutsu[at]cross.or.jp（[at]を@に置き換えてください）\n \n主催\nJ-PARCセンター\n一般財団法人総合科学研究機構（CROSS）中性子科学センター
URL:https://archive2019nt.cross.or.jp/events/v17015/
LOCATION:いばらき量子ビーム研究センター（IQBRC） B101大会議室\, 白方162-1\, 那珂郡東海村\, 茨城県\, 319-1106\, Japan
ATTACH;FMTTYPE=image/png:https://archive2019nt.cross.or.jp/wp/wp-content/uploads/2018/01/noimg.png
END:VEVENT
END:VCALENDAR