BEGIN:VCALENDAR
VERSION:2.0
PRODID:-//CROSS 中性子科学センター（2019年アーカイブ） - ECPv5.14.1//NONSGML v1.0//EN
CALSCALE:GREGORIAN
METHOD:PUBLISH
X-WR-CALNAME:CROSS 中性子科学センター（2019年アーカイブ）
X-ORIGINAL-URL:https://archive2019nt.cross.or.jp
X-WR-CALDESC:CROSS 中性子科学センター（2019年アーカイブ） のイベント
BEGIN:VTIMEZONE
TZID:Asia/Tokyo
BEGIN:STANDARD
TZOFFSETFROM:+0900
TZOFFSETTO:+0900
TZNAME:JST
DTSTART:20180101T000000
END:STANDARD
END:VTIMEZONE
BEGIN:VEVENT
DTSTART;VALUE=DATE:20180601
DTEND;VALUE=DATE:20180603
DTSTAMP:20260426T034755
CREATED:20180406T030045Z
LAST-MODIFIED:20200117T021337Z
UID:7629-1527811200-1527983999@archive2019nt.cross.or.jp
SUMMARY:第21回 超イオン導電体物性研究会（第70回 固体イオニクス研究会）
DESCRIPTION:日時\n2018年6月1日（金）～6月2日（土） \n（オプション：5月31日(木) J-PARC見学ツアー） \n  \n会場\nいばらき量子ビーム研究センター（茨城県那珂郡東海村162-1）1階　大会議室 \n  \n主催\n\n主催：　一般社団法人 日本固体イオニクス学会\n共催：　総合科学研究機構、J-PARCセンター\n協賛：　日本物理学会、応用物理学会、超イオン導電体物性研究会\n\n  \n参加費\n\n日本固体イオニクス学会個人会員：1\,500円\n日本固体イオニクス学会法人会員：5名まで無料、6名から個人会員と同じ。\n共催・協賛学会：2\,000円\n一般：3000円\n学生：500円\n\n参加費の徴収は、研究会当日、会場にて行います。 \n趣旨\n物質・生命科学実験施設（MLF） \n超イオン導電体の物性に関する理論及び実験の両面からの濃密な研究討論を通して、固体イオニクスの基礎分野に関する研究の相互活性化を図る。また、ベテラン研究者と若手研究者の交流を促すことで次代の担い手の育成を目指す。 \n内容\n\n固体イオニクスの基礎物性に関する研究発表と討論\n固体イオニクス関連物質、関連現象に関する研究発表と討論\n\n  \nプログラム\n\n以下をクリックして下さい。\n21th Forum SIC Physics_Program_2018_05_22\n\n  \n\nお弁当の注文をされた方へ：お茶付きで１食600円です。研究会当日の受付でお支払いください。お弁当は昼休憩時にお渡しいたします。\n\n  \n\n懇親会：やんしゅうばんや　八角（茨城県那珂郡東海村舟石川駅西2-14-15）（?029-284-0405）\nJR東海駅まで500m程度\n6月1日(金）18:30より\n研究会終了後、18:00に、会場である いばらき量子ビーム研究センター玄関前から送迎バスが出ます。また、東海ユーザー宿泊施設にご宿泊の方には、帰りのバスも用意しています。\n懇親会費：一般6000円（変更いたしました）、学生4000円\n\n\nJ-PARC見学ツアー\n大強度陽子加速器施設（J-PARC） \n\n研究会開催に先立ち、5月31日（木）午後に大強度陽子加速器施設（Japan Proton Accelerator Research Complex: J-PARC）見学ツアーを開催いたします。\n\n中性子、ミュオンの実験が行われている物質・生命科学実験施設（Materials and Life Science Experimental Facility: MLF）の他、ニュートリノ、ハドロン実験施設の見学も予定しています。この機会に世界最先端の実験施設をご覧ください。\n\n参加のためには、事前の申し込みが必要です。\n\n  \n\n参加者の皆様へ\n\n集合時間：2018年5月31日（木）14:00\n集合場所：いばらき量子ビーム研究センター 1階ロビー\n17:30までにいばらき量子ビーム研究センター 1階ロビーに戻り、解散の予定\n\n\n\nJ-PARCは日本原子力研究開発機構内にあり、入構に際して以下に示す身分証明書を提示する必要があります。\n\n\n日本人：日本国運転免許証、パスポート （ただし学生は顔写真付き学生証でOK）、写真付住民基本台帳カード、マイナンバー カードのいずれか。（職員証は対象となっていないため、気を付けて下さい）\n外国人：パスポート\n\n  \n  \n申込（締切：2018年5月14日（月））\n\n参加申込、講演申込、J-PARC見学ツアーの申込は、以下をクリックして下さい。\n\n  \n\n講演、参加申込\n\n講演要旨提出（締切：2018年5月18日（金））\n\n講演要旨テンプレート\n\n  \n\n原稿の作成方法\n上記テンプレート（Microsoft Word形式）をダウンロードし、これをもとに原稿を作成して下さい。\n原稿は1件につき4ページ以上偶数ページでお願いいたします。\n原稿作成後、PDF形式に変換してください。\n\n【注意】PDF形式への変換の際は、”Adobe PDFのドキュメントのプロパティ―”の”PDF設定”を”プレス品質”に設定し、必ずフォントの埋め込みを行ってください。\nまた、生成されたPDFファイルの”プロパティ―”の”フォント”タブで各種フォントが埋め込まれていることをご確認ください。\n\n  \n\n提出先\n坂口佳史（y_sakaguchi[at]cross.or.jp\, [at]を@に置き換えてください）宛に添付ファイルにてご送信ください。\n\n  \n\nご提出いただいた講演要旨は講演要旨集として冊子にまとめられ、研究会当日配布いたします。\n印刷に要する日程上、締切の厳守をお願いいたします。\n\n会場へのアクセス\n\nこちらをご覧ください\n\n\n周辺の食堂：以下のサイトの”村内”の部分を参考にして下さい\nhttps://is.j-parc.jp/uo/page_jpn/life/meel.html\n\n  \n宿泊\n東海ユーザー宿泊施設 \n\n希望者は、開催地に隣接した東海ユーザー宿泊施設を利用できます。\nただし、宿泊枠には限りがあり、宿泊予約の受付は申し込みの先着順とさせていただきます。\n施設の詳細は東海ユーザー宿泊施設のページ\nhttps://is.j-parc.jp/uo/page_jpn/accommodation/syukuhaku_dorm.html\nでご確認下さい。\n\n\n\n宿泊申し込み方法：こちらをクリックして下さい。\n\n申込を締め切りました。\n\n\n\n水戸駅、勝田駅周辺のホテルからも比較的アクセスがよいです。\n\n  \n\nひたちなか市内の宿泊施設参考資料：\nhttps://is.j-parc.jp/uo/page_jpn/accommodation/hitachinaka.html\n\n問い合わせ先\n坂口　佳史（第21回超イオン導電体物性研究会 世話人） \n\n総合科学研究機構 中性子科学センター\nTEL：029-219-5300\nE-Mail：y_sakaguchi[at]cross.or.jp（[at]を@に置き換えてください）\n\n  \n 
URL:https://archive2019nt.cross.or.jp/events/v18003/
LOCATION:AYA’S LABORATORY 量子ビーム研究センター（AQBRC） B201大会議室\, 白方162-1\, 那珂郡東海村\, 茨城県\, 319-1106
CATEGORIES:イベント
ATTACH;FMTTYPE=image/png:https://archive2019nt.cross.or.jp/wp/wp-content/uploads/2018/01/noimg.png
END:VEVENT
END:VCALENDAR