BEGIN:VCALENDAR
VERSION:2.0
PRODID:-//CROSS 中性子科学センター（2019年アーカイブ） - ECPv5.14.1//NONSGML v1.0//EN
CALSCALE:GREGORIAN
METHOD:PUBLISH
X-WR-CALNAME:CROSS 中性子科学センター（2019年アーカイブ）
X-ORIGINAL-URL:https://archive2019nt.cross.or.jp
X-WR-CALDESC:CROSS 中性子科学センター（2019年アーカイブ） のイベント
BEGIN:VTIMEZONE
TZID:Asia/Tokyo
BEGIN:STANDARD
TZOFFSETFROM:+0900
TZOFFSETTO:+0900
TZNAME:JST
DTSTART:20180101T000000
END:STANDARD
END:VTIMEZONE
BEGIN:VEVENT
DTSTART;TZID=Asia/Tokyo:20180723T130000
DTEND;TZID=Asia/Tokyo:20180724T180000
DTSTAMP:20260426T034009
CREATED:20180323T005414Z
LAST-MODIFIED:20180717T094609Z
UID:7997-1532350800-1532455200@archive2019nt.cross.or.jp
SUMMARY:平成30年度J-PARC MLF産業利用報告会
DESCRIPTION:開催趣旨\nJ-PARC MLFは世界最高峰の中性子・ミュオン研究施設として、最先端科学の進歩に寄与するべく建設されました。中でもパルス中性子源は、出力設計値1MWに向けて更なる開発に取り組んでいる最中ですが、装置建設のフェーズから運用のフェーズへと移行する中、ようやく基礎科学(サイエンス)の成果をコンスタントに創出できるようになってきました。 \nMLFのパルス中性子に課せられているもう一つの使命“イノベーションの創出”についても幅広い産業界での利用が広がりつつありますが、MLF側の取り組みについてはまだまだ手探りの状況が続いています。十分なパフォーマンスを発揮するために、一層の改善を図っていこうと考えています。MLFとしては産業界と手を取り合って将来の産業技術の基盤となる「イノベーションの共創」を図っていきたい所存です。 \n共創のための第一歩として、MLFと産業界それぞれが求めている“成果”が何であるかという認識の摺り合わせが重要です。産業利用と一口にまとめても、産業界が中性子というツールに何を期待するのか、それに対してMLFがどう応えるのか、ということは個々の課題ごとに異なります。MLFと産業界の役割分担の中で、「イノベーションの共創」のためにお互い何をすればいいのかを、十分議論することが重要です。そして“成果”を共有し、共創がお互いにとっての“うれしさ”につながるものにしたいと考えています。 \n本報告会では昨年同様、初日は成果報告をおこない、2日目に「イノベーションの共創」のための活動について事例をご報告します。これは昨年度からの試みで、共創の歩みを進めていくにあたり、皆さまからご意見をお聞きし、議論して、さらに一歩先に進めるためにはどうすればいいのかを模索したいと思っています。どうぞ積極的なご参加をお願い申し上げます。 \n参加申し込み\n参加を希望される方は下の内容をご記入の上、メールにてお申込みください。 \n(1)お名前\n(2)ご所属\n(3)連絡先（電話番号、E-mail address）\n(4)23日の報告会に参加する\n(5)24日の報告会に参加する\n(6)懇親会への参加の有無（領収書を発行します） \n申込先：中性子産業利用推進協議会 事務局 大内 薫\nE-mail: info[at]j-neutron.com（[at]を”@”に置き換えてください） \n注）報告会当日の写真（参加者の姿が写っているものを含みます）を広報活動のためホームページ等に使用させていただく場合がございます。あらかじめご了承ください。 \nプログラム\n7月23日(月)\n\n\n中性子産業利用推進協議会設立10周年記念セッション　司会：林眞琴(CROSS) \n\n\n13:00～13:10\n協議会挨拶\n庄山悦彦副会長（日立製作所）\n\n\n\n13:10～13:20\n文部科学省挨拶\n西山崇志 文科省量研室長\n\n\n13:20～13:30\nJ-PARCセンター挨拶\n齊藤直人 J-PARCセンター長\n\n\n13:30～14:00\n中性子産業利用の現状と将来\n志満津孝 運営委員長（豊田中央研究所）\n\n\nセッション１　座長：今野美智子（茨城県）\n\n\n14:00～14:15\n茨城県中性子ビームラインの産業利用と今後\n富田俊郎（茨城県）\n\n\n14:15～14:40\n金属微細組織の構造階層性を指向した中性子解析\n佐藤成男（茨城大学）\n\n\n14:40～15:05\nソフトマテリアルの機能を明らかにする新しい中性子計測\n小泉智（茨城大学）\n\n\n15:05～15:30\n銅含有アミン酸化酵素の反応中間体構造と触媒機構\n岡島英俊（大阪大学）\n\n\n15:30～15:40\n休憩\n\n\nセッション２　座長：峯村哲郎（茨城県）\n\n\n15:40～16:05\nX線と中性子を用いた耐候性鋼のさび形成過程の観察\n横溝臣智（コベルコ科研）\n\n\n16:05～16:30\nLiイオン電池用正極材料の充放電過程における平均・局所構造変化\n井手本康（東京理科大学）\n\n\n16:30～16:55\nLiイオン電池の正極材料とSEIの量子ビームと計算科学による構造解析\n今井英人（日産アーク）\n\n\n特別講演　座長：林眞琴（CROSS）\n\n\n16:55～17:35\n日立グループにおける量子ビーム活用による材料・プロセス開発\n村上元（日立製作所）\n\n\n懇親会\n\n\n17:50～19:30 \n@ ホワイエ　参加費：3\,000円\n\n\n7月24日(火)\n\n\nイノベーションの共創　司会：川北至信\n\n\n9:15～9:35\n開会挨拶\n金谷利治 MLFディビジョン長\n\n\n9:35～9:40\n「イノベーションの共創」セッション趣旨説明\n宮﨑司 (CROSS) \n\n\n招待講演　座長：富田俊郎 (茨城県) \n\n\n9:40～10:30\n加水分解酵素における「水」の機能を中性子で読み解く\n五十嵐圭日子 (東京大学）\n\n\n10:30～10:40\n休憩\n\n\nセッション３　司会：青木裕之\n\n\n10:40～11:05\n産業利用報告①\nシリカゲル表面に修飾された固定相の状態分析\n小川光揮 (富士シリシア化学) \n\n\n11:05～11:30\n施設報告①\n中性子小角・広角散乱装置TAIKANの性能向上と試料環境整備（仮）\n岩瀬裕希 (CROSS) \n\n\n11:30～11:55\n産業利用報告②\n中性子散乱による人工腎臓の中間水解析\n中田克 (東レリサーチセンター) \n\n\n11:55～12:15\n施設報告②\nNOVAによる水・水溶液の構造解析\n大友季哉 (KEK) \n\n\n12:15～12:35\n施設報告②’\nDNAによる水和水のダイナミクス解析\n山田武 (CROSS) \n\n\nポスターセッション＆お昼休み\n\n\n12:35～14:00\n各BL装置のご紹介とそこを使った産業利用報告＆軽食\n\n\n招待講演　座長：峯村哲郎 (茨城県) \n\n\n14:00～14:50\nLiイオン電池の開発と将来展望\n吉野彰（旭化成）\n\n\n14:50～15:00\n休 憩\n\n\nセッション４　司会：蒲沢和也\n\n\n15:00～15:25\n産業利用報告③\n中性子を利用した車載用リチウムイオン電池の非破壊解析\n佐藤健児 (本田技術研究所) \n\n\n\n15:25～15:50\n施設報告③\n蓄電池動作環境下での中性子回折による電池反応解析\n米村雅雄 (KEK) \n\n\n\n15:50～16:15\n産業利用報告④\n未来の自動車に向けた量子ビーム利用解析技術\n野崎洋 (豊田中央研究所) \n\n\n\n16:15～16:35\n施設報告④\niMATERIAにおける電池材料・自動車用材料解析の現状\n石垣徹 (茨城大) \n\n\n\n16:35～16:55\n施設報告④’\n自動車用金属材料の応力解析\nステファヌス　ハルヨ (JAEA) \n\n\n16:55～17:00\n閉会挨拶\n横溝英明 中性子科学センター長（CROSS）\n\n\n17:00-18:00\n相談会\n\n\n運営組織\n主催\nJ-PARCセンター\n総合科学研究機構（CROSS）中性子科学センター\n茨城県\n中性子産業利用推進協議会 \n共催\nJ-PARC MLF利用者懇談会 \n協賛\n(公財)高輝度光科学研究センター（JASRI）、(一財)高度情報科学技術研究機構（RIST）、高分子学会、SPring-8ユーザー協同体（SPRUC）、SPring-8利用推進協議会、繊維学会、フロンティアソフトマター開発専用ビームライン産学連合体（FSBL）、日本金属学会、日本ゴム協会、日本材料学会、日本接着学会、日本セラミックス協会、日本中性子科学会、日本鉄鋼協会、日本非破壊検査協会、日本放射光学会、PFユーザーアソシエーション(PF-UA)  、日本物理学会、日本化学会、日本磁気学会、電気学会、日本結晶学会、応用物理学会、日本蛋白質科学会、日本生物物理学会、日本薬学会
URL:https://archive2019nt.cross.or.jp/events/v18005/
LOCATION:秋葉原コンベンションホール\, 外神田 1-18-13 秋葉原ダイビル 2Ｆ\, 千代田区\, 東京都\, 101-0021
CATEGORIES:イベント
ATTACH;FMTTYPE=image/png:https://archive2019nt.cross.or.jp/wp/wp-content/uploads/2018/01/noimg.png
END:VEVENT
END:VCALENDAR