BEGIN:VCALENDAR
VERSION:2.0
PRODID:-//CROSS 中性子科学センター（2019年アーカイブ） - ECPv5.14.1//NONSGML v1.0//EN
CALSCALE:GREGORIAN
METHOD:PUBLISH
X-WR-CALNAME:CROSS 中性子科学センター（2019年アーカイブ）
X-ORIGINAL-URL:https://archive2019nt.cross.or.jp
X-WR-CALDESC:CROSS 中性子科学センター（2019年アーカイブ） のイベント
BEGIN:VTIMEZONE
TZID:Asia/Tokyo
BEGIN:STANDARD
TZOFFSETFROM:+0900
TZOFFSETTO:+0900
TZNAME:JST
DTSTART:20180101T000000
END:STANDARD
END:VTIMEZONE
BEGIN:VEVENT
DTSTART;VALUE=DATE:20181120
DTEND;VALUE=DATE:20181125
DTSTAMP:20260426T034929
CREATED:20180705T060729Z
LAST-MODIFIED:20180705T060729Z
UID:8829-1542672000-1543103999@archive2019nt.cross.or.jp
SUMMARY:The 3rd Neutron and Muon School
DESCRIPTION:こちらのサイトをご覧ください。\nhttps://neutron.cross.or.jp/3rd-nms/
URL:https://archive2019nt.cross.or.jp/events/v18008/
LOCATION:いばらき量子ビーム研究センター（IQBRC） B101大会議室\, 白方162-1\, 那珂郡東海村\, 茨城県\, 319-1106\, Japan
ATTACH;FMTTYPE=image/png:https://archive2019nt.cross.or.jp/wp/wp-content/uploads/2018/07/3rd-nms368-153.png
END:VEVENT
END:VCALENDAR