BEGIN:VCALENDAR
VERSION:2.0
PRODID:-//CROSS 中性子科学センター（2019年アーカイブ） - ECPv5.14.1//NONSGML v1.0//EN
CALSCALE:GREGORIAN
METHOD:PUBLISH
X-WR-CALNAME:CROSS 中性子科学センター（2019年アーカイブ）
X-ORIGINAL-URL:https://archive2019nt.cross.or.jp
X-WR-CALDESC:CROSS 中性子科学センター（2019年アーカイブ） のイベント
BEGIN:VTIMEZONE
TZID:Asia/Tokyo
BEGIN:STANDARD
TZOFFSETFROM:+0900
TZOFFSETTO:+0900
TZNAME:JST
DTSTART:20180101T000000
END:STANDARD
END:VTIMEZONE
BEGIN:VEVENT
DTSTART;TZID=Asia/Tokyo:20180921T130000
DTEND;TZID=Asia/Tokyo:20180921T170000
DTSTAMP:20260426T034736
CREATED:20180926T014933Z
LAST-MODIFIED:20181015T065827Z
UID:9354-1537534800-1537549200@archive2019nt.cross.or.jp
SUMMARY:平成30年度第1回構造生物学研究会
DESCRIPTION:共催\nJ-PARC MLF利用者懇談会 \n日本学術振興会 第 169169169委員会 \n新世代研究所 水和ナノ構造研究会 \n協賛\n総合科学研究機構（CROSS）中性子科学研究センター
URL:https://archive2019nt.cross.or.jp/events/v18013/
CATEGORIES:研究会
ATTACH;FMTTYPE=image/png:https://archive2019nt.cross.or.jp/wp/wp-content/uploads/2018/01/noimg.png
ORGANIZER;CN="%E4%B8%AD%E6%80%A7%E5%AD%90%E7%94%A3%E6%A5%AD%E5%88%A9%E7%94%A8%E6%8E%A8%E9%80%B2%E5%8D%94%E8%AD%B0%E4%BC%9A":MAILTO:info＠j-neutron.com
END:VEVENT
END:VCALENDAR