BEGIN:VCALENDAR
VERSION:2.0
PRODID:-//CROSS 中性子科学センター（2019年アーカイブ） - ECPv5.14.1//NONSGML v1.0//EN
CALSCALE:GREGORIAN
METHOD:PUBLISH
X-WR-CALNAME:CROSS 中性子科学センター（2019年アーカイブ）
X-ORIGINAL-URL:https://archive2019nt.cross.or.jp
X-WR-CALDESC:CROSS 中性子科学センター（2019年アーカイブ） のイベント
BEGIN:VTIMEZONE
TZID:Asia/Tokyo
BEGIN:STANDARD
TZOFFSETFROM:+0900
TZOFFSETTO:+0900
TZNAME:JST
DTSTART:20180101T000000
END:STANDARD
END:VTIMEZONE
BEGIN:VEVENT
DTSTART;TZID=Asia/Tokyo:20181009T100000
DTEND;TZID=Asia/Tokyo:20181009T170000
DTSTAMP:20260426T034115
CREATED:20181002T010054Z
LAST-MODIFIED:20181015T052834Z
UID:9358-1539079200-1539104400@archive2019nt.cross.or.jp
SUMMARY:平成30年度第1回残留歪み・応力解析研究会
DESCRIPTION:協賛\n総合科学研究機構（CROSS）中性子科学センター \nQST微細構造解析プラットフォーム \n日本材料学会X線材料強度部門委員会
URL:https://archive2019nt.cross.or.jp/events/v18014/
LOCATION:エッサム神田ホール1号館301会議室
CATEGORIES:研究会
ATTACH;FMTTYPE=image/png:https://archive2019nt.cross.or.jp/wp/wp-content/uploads/2018/01/noimg.png
ORGANIZER;CN="%E4%B8%AD%E6%80%A7%E5%AD%90%E7%94%A3%E6%A5%AD%E5%88%A9%E7%94%A8%E6%8E%A8%E9%80%B2%E5%8D%94%E8%AD%B0%E4%BC%9A":MAILTO:info＠j-neutron.com
END:VEVENT
END:VCALENDAR