BEGIN:VCALENDAR
VERSION:2.0
PRODID:-//CROSS 中性子科学センター（2019年アーカイブ） - ECPv5.14.1//NONSGML v1.0//EN
CALSCALE:GREGORIAN
METHOD:PUBLISH
X-WR-CALNAME:CROSS 中性子科学センター（2019年アーカイブ）
X-ORIGINAL-URL:https://archive2019nt.cross.or.jp
X-WR-CALDESC:CROSS 中性子科学センター（2019年アーカイブ） のイベント
BEGIN:VTIMEZONE
TZID:Asia/Tokyo
BEGIN:STANDARD
TZOFFSETFROM:+0900
TZOFFSETTO:+0900
TZNAME:JST
DTSTART:20180101T000000
END:STANDARD
END:VTIMEZONE
BEGIN:VEVENT
DTSTART;VALUE=DATE:20181204
DTEND;VALUE=DATE:20181206
DTSTAMP:20260426T034119
CREATED:20180926T022525Z
LAST-MODIFIED:20200713T025616Z
UID:9369-1543881600-1544054399@archive2019nt.cross.or.jp
SUMMARY:日本中性子科学会第18回年会
DESCRIPTION:日本中性子科学会第18回年会を開催します。 \n皆さまの参加をお待ちしています。 \n主催\n日本中性子学会 \n共催\n国立大学法人茨城大学 \nJ-PARCセンター物質・生命科学実験施設 \n一般財団法人総合科学研究機構中性子科学センター \n国立研究開発法人日本原子力研究開発機構物質科学研究センター \n国立大学法人京都大学複合原子力科学研究所 \n国立大学法人東京大学物性研究所 \n大学共同利用機関法人高エネルギー加速器研究機構物質構造材料科学研究所 \n協賛\n一般社団法人日本鉄鋼協会 \n一般社団法人日本物理学会 \n公益社団法人精密工学会 \n中性子産業利用推進協議会 \n日本加速器学会 \n日本放射光学会
URL:https://archive2019nt.cross.or.jp/events/v18017/
LOCATION:茨城県立県民文化センター
CATEGORIES:年会
ATTACH;FMTTYPE=image/png:https://archive2019nt.cross.or.jp/wp/wp-content/uploads/2018/01/noimg.png
END:VEVENT
END:VCALENDAR