BEGIN:VCALENDAR
VERSION:2.0
PRODID:-//CROSS 中性子科学センター（2019年アーカイブ） - ECPv5.14.1//NONSGML v1.0//EN
CALSCALE:GREGORIAN
METHOD:PUBLISH
X-WR-CALNAME:CROSS 中性子科学センター（2019年アーカイブ）
X-ORIGINAL-URL:https://archive2019nt.cross.or.jp
X-WR-CALDESC:CROSS 中性子科学センター（2019年アーカイブ） のイベント
BEGIN:VTIMEZONE
TZID:Asia/Tokyo
BEGIN:STANDARD
TZOFFSETFROM:+0900
TZOFFSETTO:+0900
TZNAME:JST
DTSTART:20190101T000000
END:STANDARD
END:VTIMEZONE
BEGIN:VEVENT
DTSTART;TZID=Asia/Tokyo:20190212T093000
DTEND;TZID=Asia/Tokyo:20190213T170000
DTSTAMP:20260426T035039
CREATED:20181024T002630Z
LAST-MODIFIED:20181120T082733Z
UID:9669-1549963800-1550077200@archive2019nt.cross.or.jp
SUMMARY:平成30年度初級者向けZ-Code講習会
DESCRIPTION:協賛\n総合科学研究機構（CROSS）中性子科学センター
URL:https://archive2019nt.cross.or.jp/events/v18020/
LOCATION:エッサム神田ホール1号館 601会議室\, 神田鍛冶町 3-2-2\, 千代田区\, 東京都\, 101-0045\, Japan
CATEGORIES:講習会
ATTACH;FMTTYPE=image/png:https://archive2019nt.cross.or.jp/wp/wp-content/uploads/2018/01/noimg.png
END:VEVENT
END:VCALENDAR