BEGIN:VCALENDAR
VERSION:2.0
PRODID:-//CROSS 中性子科学センター（2019年アーカイブ） - ECPv5.14.1//NONSGML v1.0//EN
CALSCALE:GREGORIAN
METHOD:PUBLISH
X-WR-CALNAME:CROSS 中性子科学センター（2019年アーカイブ）
X-ORIGINAL-URL:https://archive2019nt.cross.or.jp
X-WR-CALDESC:CROSS 中性子科学センター（2019年アーカイブ） のイベント
BEGIN:VTIMEZONE
TZID:Asia/Tokyo
BEGIN:STANDARD
TZOFFSETFROM:+0900
TZOFFSETTO:+0900
TZNAME:JST
DTSTART:20190101T000000
END:STANDARD
END:VTIMEZONE
BEGIN:VEVENT
DTSTART;TZID=Asia/Tokyo:20190130T130000
DTEND;TZID=Asia/Tokyo:20190131T150500
DTSTAMP:20260426T034955
CREATED:20181030T042152Z
LAST-MODIFIED:20190806T232720Z
UID:9834-1548853200-1548947100@archive2019nt.cross.or.jp
SUMMARY:平成30年度薄膜・界面研究会
DESCRIPTION:共催\nJ-PARC MLF利用者懇談会 (ソフトマター・反応分科会 )
URL:https://archive2019nt.cross.or.jp/events/v18026/
LOCATION:エッサム神田ホール 301 会議室\, 〒101-0045 東京都千代田区神田鍛冶町 3-2-2
CATEGORIES:研究会
ATTACH;FMTTYPE=image/png:https://archive2019nt.cross.or.jp/wp/wp-content/uploads/2018/01/noimg.png
END:VEVENT
END:VCALENDAR